BEGIN:VCALENDAR
VERSION:2.0
PRODID:-//aldridgegardens.com//NONSGML kigkonsult.se iCalcreator 2.30.10//
CALSCALE:GREGORIAN
METHOD:PUBLISH
UID:73b42ccf-9234-44db-8063-68cdb9283d54
X-WR-CALDESC:Meet award-winning photographer Joseph De Sciose and get a fir
 st glance at his new exhibit at Aldridge Gardens. \n\n'Embracing Silence' 
 is an exhibition of black and white photography of Moss Rock Preserve. Thi
 s display features images captured at Moss Rock\, a 349-acre refuge of bou
 lder fields\, sandstone glades\, waterfalls\, native plants and wildlife i
 n the heart of Hoover. \n\nJoseph De Sciose was a senior photographer at S
 outhern Living Magazine for more than five years shooting gardens\, travel
  and lifestyle stories. He won the Garden Globe Award for “Best Photograph
 y for a Garden Book” by the Garden Writers’ Association for the Flower Gar
 dener’s Bible. His work has also been featured in several additional books
 . \n\n'Embracing Silence' will be featured in the Kay and Eddie Aldridge A
 rt and Historical Museum  October 9 through December 7. \n\nThe Meet the A
 rtist Reception is free\, but so that we may properly plan we ask that you
  kindly RSVP.\n
X-WR-RELCALID:eb470e6b1e46869170c00bbe604e9da6
X-WR-TIMEZONE:America/Chicago
BEGIN:VTIMEZONE
TZID:America/Chicago
BEGIN:STANDARD
TZNAME:CST
DTSTART:20131103T020000
TZOFFSETFROM:-0500
TZOFFSETTO:-0600
RDATE:20141102T020000
RDATE:20151101T020000
END:STANDARD
BEGIN:DAYLIGHT
TZNAME:CDT
DTSTART:20140309T020000
TZOFFSETFROM:-0600
TZOFFSETTO:-0500
RDATE:20150308T020000
RDATE:20160313T020000
END:DAYLIGHT
END:VTIMEZONE
BEGIN:VEVENT
UID:4c1fef95-859d-4430-adaf-f74abbb2dfbf
DTSTAMP:20260424T020742Z
DESCRIPTION:Meet award-winning photographer Joseph De Sciose and get a firs
 t glance at his new exhibit at Aldridge Gardens. \n\n'Embracing Silence' i
 s an exhibition of black and white photography of Moss Rock Preserve. This
  display features images captured at Moss Rock\, a 349-acre refuge of boul
 der fields\, sandstone glades\, waterfalls\, native plants and wildlife in
  the heart of Hoover. \n\nJoseph De Sciose was a senior photographer at So
 uthern Living Magazine for more than five years shooting gardens\, travel 
 and lifestyle stories. He won the Garden Globe Award for “Best Photography
  for a Garden Book” by the Garden Writers’ Association for the Flower Gard
 ener’s Bible. His work has also been featured in several additional books.
  \n\n'Embracing Silence' will be featured in the Kay and Eddie Aldridge Ar
 t and Historical Museum  October 9 through December 7. \n\nThe Meet the Ar
 tist Reception is free\, but so that we may properly plan we ask that you 
 kindly RSVP.\n
DTSTART;TZID=America/Chicago:20141009T180000
DTEND;TZID=America/Chicago:20141009T200000
LOCATION:
SUMMARY:Meet the Artist Reception: Joseph De Sciose
END:VEVENT
END:VCALENDAR
