BEGIN:VCALENDAR
VERSION:2.0
PRODID:-//aldridgegardens.com//NONSGML kigkonsult.se iCalcreator 2.30.10//
CALSCALE:GREGORIAN
METHOD:PUBLISH
UID:577d38d9-8bd1-4630-9fd6-52340a903363
X-WR-CALDESC:At the October Propagator's Club Wine Reception\, members will
  have the opportunity to meet and mingle with award-winning photography Jo
 seph De Sciose prior to the public event at 6:00. Join us in Aldridge Hous
 e for food\, wine and fellowship with other Propagator Club members\, and 
 get the first look at De Sciose's latest works in 'Embracing Silence' - a 
 stunning exhibition of black and white photography of Moss Rock Preserve. 
 . \n\nAs always\, this event is free for Propagator Club members\, but we 
 ask that you kindly RSVP.
X-WR-RELCALID:2fa4207888d6b6f9bfd47b0d9f5bf774
X-WR-TIMEZONE:America/Chicago
BEGIN:VTIMEZONE
TZID:America/Chicago
BEGIN:STANDARD
TZNAME:CST
DTSTART:20131103T020000
TZOFFSETFROM:-0500
TZOFFSETTO:-0600
RDATE:20141102T020000
RDATE:20151101T020000
END:STANDARD
BEGIN:DAYLIGHT
TZNAME:CDT
DTSTART:20140309T020000
TZOFFSETFROM:-0600
TZOFFSETTO:-0500
RDATE:20150308T020000
RDATE:20160313T020000
END:DAYLIGHT
END:VTIMEZONE
BEGIN:VEVENT
UID:26cb6a0b-3282-450c-b566-76fbe777f806
DTSTAMP:20260424T015708Z
DESCRIPTION:At the October Propagator's Club Wine Reception\, members will 
 have the opportunity to meet and mingle with award-winning photography Jos
 eph De Sciose prior to the public event at 6:00. Join us in Aldridge House
  for food\, wine and fellowship with other Propagator Club members\, and g
 et the first look at De Sciose's latest works in 'Embracing Silence' - a s
 tunning exhibition of black and white photography of Moss Rock Preserve. .
  \n\nAs always\, this event is free for Propagator Club members\, but we a
 sk that you kindly RSVP.
DTSTART;TZID=America/Chicago:20141009T170000
DTEND;TZID=America/Chicago:20141009T180000
LOCATION:
SUMMARY:Propagator Club Reception
END:VEVENT
END:VCALENDAR
