BEGIN:VCALENDAR
VERSION:2.0
PRODID:-//aldridgegardens.com//NONSGML kigkonsult.se iCalcreator 2.30.10//
CALSCALE:GREGORIAN
METHOD:PUBLISH
UID:4adf538c-a82f-4c70-8b4a-fe6638aa31a9
X-WR-CALDESC:Are you ready for a mind-body workout in the most beautiful sp
 ot in Hoover?\n\nYou already come to the Gardens to walk - why not join us
  to workout? We're partnering with Hoover Fitness again this fall to blast
  fat! \n\nJoin Jason Cerniglia\, owner of Hoover Fitness\, author and pers
 onal trainer\, for his 21-Day Fat Blast training program. It's one of the 
 most popular workout programs in our area\, and it will be offered Mondays
 \, Wednesdays and Fridays at 5:45 a.m. starting October 8.\n\nThe program 
 is geared towards any age or fitness level - beginners are welcome\, and e
 veryone will see results. The cost is $89 and includes group training thre
 e times weekly\, the 301 workout\, cardio and weight workouts for non-grou
 p days\, and simple diet tips and quick changes. \n\nFor more information 
 on the class or to enroll\, email Jason at info@hooverfitness.com. To see 
 photos and results from the program\, visit hooverfitness.com.
X-WR-RELCALID:bca2e75cc187e32b06db67c87845e1bf
X-WR-TIMEZONE:America/Chicago
BEGIN:VTIMEZONE
TZID:America/Chicago
BEGIN:STANDARD
TZNAME:CST
DTSTART:20131103T020000
TZOFFSETFROM:-0500
TZOFFSETTO:-0600
RDATE:20141102T020000
RDATE:20151101T020000
END:STANDARD
BEGIN:DAYLIGHT
TZNAME:CDT
DTSTART:20140309T020000
TZOFFSETFROM:-0600
TZOFFSETTO:-0500
RDATE:20150308T020000
RDATE:20160313T020000
END:DAYLIGHT
END:VTIMEZONE
BEGIN:VEVENT
UID:1e1fa052-e7a9-499f-bcf3-d7c920d601bf
DTSTAMP:20260424T020309Z
DESCRIPTION:Are you ready for a mind-body workout in the most beautiful spo
 t in Hoover?\n\nYou already come to the Gardens to walk - why not join us 
 to workout? We're partnering with Hoover Fitness again this fall to blast 
 fat! \n\nJoin Jason Cerniglia\, owner of Hoover Fitness\, author and perso
 nal trainer\, for his 21-Day Fat Blast training program. It's one of the m
 ost popular workout programs in our area\, and it will be offered Mondays\
 , Wednesdays and Fridays at 5:45 a.m. starting October 8.\n\nThe program i
 s geared towards any age or fitness level - beginners are welcome\, and ev
 eryone will see results. The cost is $89 and includes group training three
  times weekly\, the 301 workout\, cardio and weight workouts for non-group
  days\, and simple diet tips and quick changes. \n\nFor more information o
 n the class or to enroll\, email Jason at info@hooverfitness.com. To see p
 hotos and results from the program\, visit hooverfitness.com.
DTSTART;TZID=America/Chicago:20141013T054500
DTEND;TZID=America/Chicago:20141013T063000
LOCATION:Under the Pavilion
SUMMARY:Get Fit at the Gardens!
END:VEVENT
END:VCALENDAR
