BEGIN:VCALENDAR
VERSION:2.0
PRODID:-//aldridgegardens.com//NONSGML kigkonsult.se iCalcreator 2.30.10//
CALSCALE:GREGORIAN
METHOD:PUBLISH
UID:43abc25a-526f-40b5-a6c0-25c3531e7c6b
X-WR-CALDESC:Taste of Hoover celebrates the variety of culinary styles foun
 d throughout the city. \n \nEnjoy an autumn evening with us strolling thro
 ugh the Gardens and sampling delicious dishes from some of Hoover's best r
 estaurants\, caterers and more. Taste international wines and local beers 
 and listen to live entertainment throughout the evening with special music
 al guests <a href='https://www.facebook.com/ElliottDavisMusic'>Elliott Dav
 is Band</a> and <a href='https://www.facebook.com/WinstonRamble'>Winston R
 amble Band</a>. \n\n$20 members/$30 non-members\nOnly a limited number of 
 tickets are available - get yours now!\n<i>Please note this is a special e
 vent and we will not offer free admission to the Gardens during Taste of H
 oover.</i> \n\nHere's a partial list of Hoover restaurants and Aldridge Ga
 rdens preferred vendors who will be serving scrumptious samples from their
  menus:\n\n<a href='http://www.cedarschaselake.com/'>Cedar's Grille</a>\n<
 a href='http://dalesgrill.com/#home/'>Dale's Southern Grill</a>\n<a href='
 http://www.edgarsbakery.com/'>Edgar's Bakery</a>\n<a href='http://www.buff
 alowildwings.com/en/'>Buffalo Wild Wings </a>\nFried Green Tomatoes\n<a hr
 ef='http://www.gigiscupcakesusa.com/'>Gigi's Cupcakes</a>\n<a href='http:/
 /wynfrey.regency.hyatt.com/en/hotel/dining/Merks-Tavern-and-Kitchen.html'>
 Merk's Tavern and Kitchen </a>\n<a href='http://jubileejoes.com/'>Jubilee 
 Joe's </a>\n<a href='http://www.moesoriginalbbq.com/'>Moe's Original BBQ</
 a>\nPuerto Plata Dominican & Mexican\n<a href='http://www.legacybbq.com/'>
 Southern Legacy BBQ & Brew</a>\n<a href='http://tazikiscafe.com/'>Taziki's
  Mediterranean Cafe</a>\n<a href='http://thebootatpreservevillage.vpweb.co
 m/'default.html/'>The Boot </a>\n<a href='http://www.thewholescoopicecream
 .com/'>The Whole Scoop</a>\n<a href='http://www.thevillaggioatrossbridge.c
 om/'>Villaggio's</a>\n<a href='http://www.asianrim.com/'>Asian Rim</a>\n<a
  href='http://www.chefclayton.org/'>Chef Clayton's Catering</a>\n<a href='
 http://www.brunoeventteam.com/five-star-event-catering.php/'>Five Star Eve
 nt Catering</a>\n<a href='http://www.gourmetpantry.us/'>Gourmet Pantry Cat
 ering</a>\n<a href='http://www.everythingiz.com/'>IZ Catering</a>\n<a href
 ='http://www.jimnnicks.com/menus/greystone/catering/'>Jim N Nick's Bar-B-Q
  Catering</a>\n<a href='http://savoiecatering.com/'>Savoie Catering</a>\n<
 a href='http://www.happycatering.net/'>The Happy Catering Co.</a>\n<a href
 ='http://backfortybeer.com/'>Back Forty Beer Company</a>\n<a href='http://
 cocacolaunited.com/locations/birmingham/'>Birmingham Coca Cola Bottling Co
 .</a>\n<a href='http://www.iwinebeer.com/'>International Wines and Craft B
 eer</a>\n<a href='http://www.jeffstateonline.com/programs/hospitality-mana
 gement/the-culinary-hospitality-institute/'>Jefferson State Culinary & Hos
 pitality Institute</a>\n<a href='http://www.royalcupcoffee.com/'>Royal Cup
  Coffee</a>\n<a href='http://hooversun.com/peopleplaces/local-writer-celeb
 rates-alabama%E2%80%99s-restaurants/'>Jon McClure\, author of 'Alabama's B
 est Restaurants Cookbook' and 'Birmingham's Best Restaurants Cookbook'</a>
 \n \nTaste of Hoover is sponsored by the <i>Hoover Sun</i>. \n\n\n
X-WR-RELCALID:2de57ace47c0006a006e4a9f6f1edce2
X-WR-TIMEZONE:America/Chicago
BEGIN:VTIMEZONE
TZID:America/Chicago
BEGIN:STANDARD
TZNAME:CST
DTSTART:20131103T020000
TZOFFSETFROM:-0500
TZOFFSETTO:-0600
RDATE:20141102T020000
RDATE:20151101T020000
END:STANDARD
BEGIN:DAYLIGHT
TZNAME:CDT
DTSTART:20140309T020000
TZOFFSETFROM:-0600
TZOFFSETTO:-0500
RDATE:20150308T020000
RDATE:20160313T020000
END:DAYLIGHT
END:VTIMEZONE
BEGIN:VEVENT
UID:a3af1411-d5d8-420a-8eca-31f757b971cc
DTSTAMP:20260424T015759Z
DESCRIPTION:Taste of Hoover celebrates the variety of culinary styles found
  throughout the city. \n \nEnjoy an autumn evening with us strolling throu
 gh the Gardens and sampling delicious dishes from some of Hoover's best re
 staurants\, caterers and more. Taste international wines and local beers a
 nd listen to live entertainment throughout the evening with special musica
 l guests <a href='https://www.facebook.com/ElliottDavisMusic'>Elliott Davi
 s Band</a> and <a href='https://www.facebook.com/WinstonRamble'>Winston Ra
 mble Band</a>. \n\n$20 members/$30 non-members\nOnly a limited number of t
 ickets are available - get yours now!\n<i>Please note this is a special ev
 ent and we will not offer free admission to the Gardens during Taste of Ho
 over.</i> \n\nHere's a partial list of Hoover restaurants and Aldridge Gar
 dens preferred vendors who will be serving scrumptious samples from their 
 menus:\n\n<a href='http://www.cedarschaselake.com/'>Cedar's Grille</a>\n<a
  href='http://dalesgrill.com/#home/'>Dale's Southern Grill</a>\n<a href='h
 ttp://www.edgarsbakery.com/'>Edgar's Bakery</a>\n<a href='http://www.buffa
 lowildwings.com/en/'>Buffalo Wild Wings </a>\nFried Green Tomatoes\n<a hre
 f='http://www.gigiscupcakesusa.com/'>Gigi's Cupcakes</a>\n<a href='http://
 wynfrey.regency.hyatt.com/en/hotel/dining/Merks-Tavern-and-Kitchen.html'>M
 erk's Tavern and Kitchen </a>\n<a href='http://jubileejoes.com/'>Jubilee J
 oe's </a>\n<a href='http://www.moesoriginalbbq.com/'>Moe's Original BBQ</a
 >\nPuerto Plata Dominican & Mexican\n<a href='http://www.legacybbq.com/'>S
 outhern Legacy BBQ & Brew</a>\n<a href='http://tazikiscafe.com/'>Taziki's 
 Mediterranean Cafe</a>\n<a href='http://thebootatpreservevillage.vpweb.com
 /'default.html/'>The Boot </a>\n<a href='http://www.thewholescoopicecream.
 com/'>The Whole Scoop</a>\n<a href='http://www.thevillaggioatrossbridge.co
 m/'>Villaggio's</a>\n<a href='http://www.asianrim.com/'>Asian Rim</a>\n<a 
 href='http://www.chefclayton.org/'>Chef Clayton's Catering</a>\n<a href='h
 ttp://www.brunoeventteam.com/five-star-event-catering.php/'>Five Star Even
 t Catering</a>\n<a href='http://www.gourmetpantry.us/'>Gourmet Pantry Cate
 ring</a>\n<a href='http://www.everythingiz.com/'>IZ Catering</a>\n<a href=
 'http://www.jimnnicks.com/menus/greystone/catering/'>Jim N Nick's Bar-B-Q 
 Catering</a>\n<a href='http://savoiecatering.com/'>Savoie Catering</a>\n<a
  href='http://www.happycatering.net/'>The Happy Catering Co.</a>\n<a href=
 'http://backfortybeer.com/'>Back Forty Beer Company</a>\n<a href='http://c
 ocacolaunited.com/locations/birmingham/'>Birmingham Coca Cola Bottling Co.
 </a>\n<a href='http://www.iwinebeer.com/'>International Wines and Craft Be
 er</a>\n<a href='http://www.jeffstateonline.com/programs/hospitality-manag
 ement/the-culinary-hospitality-institute/'>Jefferson State Culinary & Hosp
 itality Institute</a>\n<a href='http://www.royalcupcoffee.com/'>Royal Cup 
 Coffee</a>\n<a href='http://hooversun.com/peopleplaces/local-writer-celebr
 ates-alabama%E2%80%99s-restaurants/'>Jon McClure\, author of 'Alabama's Be
 st Restaurants Cookbook' and 'Birmingham's Best Restaurants Cookbook'</a>
 \n \nTaste of Hoover is sponsored by the <i>Hoover Sun</i>. \n\n\n
DTSTART;TZID=America/Chicago:20141016T170000
DTEND;TZID=America/Chicago:20141016T200000
LOCATION:
SUMMARY:Taste of Hoover
END:VEVENT
END:VCALENDAR
