BEGIN:VCALENDAR
VERSION:2.0
PRODID:-//aldridgegardens.com//NONSGML kigkonsult.se iCalcreator 2.30.10//
CALSCALE:GREGORIAN
METHOD:PUBLISH
UID:87aa3276-d6ba-4d1f-a5f5-acddff5874e0
X-WR-CALDESC:Led by Dr. Richard and Patricia Ryel\, this is your chance to 
 see the Gardens like you never have before. Enjoy a 2-hour guided walk and
  discover the birds of Aldridge Gardens as they migrate through our area. 
 \n\nSo far this year we've seen 57 different species of birds - join us an
 d bring binoculars so you don't miss a thing! \n\nThis walk is free and fo
 r members only\, but is limited to 15 participants so we ask that you plea
 se pre-register.
X-WR-RELCALID:b23f85c8f69619356b7763820cf73181
X-WR-TIMEZONE:America/Chicago
BEGIN:VTIMEZONE
TZID:America/Chicago
BEGIN:STANDARD
TZNAME:CST
DTSTART:20131103T020000
TZOFFSETFROM:-0500
TZOFFSETTO:-0600
RDATE:20141102T020000
RDATE:20151101T020000
END:STANDARD
BEGIN:DAYLIGHT
TZNAME:CDT
DTSTART:20140309T020000
TZOFFSETFROM:-0600
TZOFFSETTO:-0500
RDATE:20150308T020000
RDATE:20160313T020000
END:DAYLIGHT
END:VTIMEZONE
BEGIN:VEVENT
UID:ee22e2ab-59b7-4b18-bcce-dbaf93ceb7c6
DTSTAMP:20260424T015830Z
DESCRIPTION:Led by Dr. Richard and Patricia Ryel\, this is your chance to s
 ee the Gardens like you never have before. Enjoy a 2-hour guided walk and 
 discover the birds of Aldridge Gardens as they migrate through our area. 
 \n\nSo far this year we've seen 57 different species of birds - join us an
 d bring binoculars so you don't miss a thing! \n\nThis walk is free and fo
 r members only\, but is limited to 15 participants so we ask that you plea
 se pre-register.
DTSTART;TZID=America/Chicago:20141018T080000
DTEND;TZID=America/Chicago:20141018T100000
LOCATION:Entrance Plaza
SUMMARY:Members Only Guided Bird Walk
END:VEVENT
END:VCALENDAR
