BEGIN:VCALENDAR
VERSION:2.0
PRODID:-//aldridgegardens.com//NONSGML kigkonsult.se iCalcreator 2.30.10//
CALSCALE:GREGORIAN
METHOD:PUBLISH
UID:6c5f75c7-e7cc-4e2f-8a0d-236c7632e3ee
X-WR-CALDESC:
X-WR-RELCALID:4fbcf1d2d2b3e2c3016b53c20420ed55
X-WR-TIMEZONE:America/Chicago
BEGIN:VTIMEZONE
TZID:America/Chicago
BEGIN:STANDARD
TZNAME:CST
DTSTART:20131103T020000
TZOFFSETFROM:-0500
TZOFFSETTO:-0600
RDATE:20141102T020000
RDATE:20151101T020000
END:STANDARD
BEGIN:DAYLIGHT
TZNAME:CDT
DTSTART:20140309T020000
TZOFFSETFROM:-0600
TZOFFSETTO:-0500
RDATE:20150308T020000
RDATE:20160313T020000
END:DAYLIGHT
END:VTIMEZONE
BEGIN:VEVENT
UID:f95d6dc9-f865-478e-87e1-44806c57cdbf
DTSTAMP:20260424T020503Z
DESCRIPTION:
DTSTART;TZID=America/Chicago:20141023T170000
DTEND;TZID=America/Chicago:20141023T200000
LOCATION:
SUMMARY:Taste of Hoover RAIN DATE
END:VEVENT
END:VCALENDAR
