BEGIN:VCALENDAR
VERSION:2.0
PRODID:-//aldridgegardens.com//NONSGML kigkonsult.se iCalcreator 2.30.10//
CALSCALE:GREGORIAN
METHOD:PUBLISH
UID:9cff2760-c79d-4f06-a94c-c896d9595245
X-WR-CALDESC:Instructor: Naturalist Dick Mills\n$12 members/$15 non-members
 \nOne child 6+ free with adult registration. $4 for each additional child 
 6 and older.  \n\nFound in virtually every part of the world except the po
 lar regions\, bats are the only mammals capable of true flight.  Join us f
 or this Family Nature Program as we learn about the many qualities and ada
 ptations of these fascinating animals. Be prepared to see some of our regi
 onal bats up close!\n\nProfessional development hours are available for te
 achers.
X-WR-RELCALID:985ffcae5d72e92be0729557d2dd3d9f
X-WR-TIMEZONE:America/Chicago
BEGIN:VTIMEZONE
TZID:America/Chicago
BEGIN:STANDARD
TZNAME:CST
DTSTART:20131103T020000
TZOFFSETFROM:-0500
TZOFFSETTO:-0600
RDATE:20141102T020000
RDATE:20151101T020000
END:STANDARD
BEGIN:DAYLIGHT
TZNAME:CDT
DTSTART:20140309T020000
TZOFFSETFROM:-0600
TZOFFSETTO:-0500
RDATE:20150308T020000
RDATE:20160313T020000
END:DAYLIGHT
END:VTIMEZONE
BEGIN:VEVENT
UID:51300a87-7c78-4207-9f9c-0027aa659764
DTSTAMP:20260424T020212Z
DESCRIPTION:Instructor: Naturalist Dick Mills\n$12 members/$15 non-members
 \nOne child 6+ free with adult registration. $4 for each additional child 
 6 and older.  \n\nFound in virtually every part of the world except the po
 lar regions\, bats are the only mammals capable of true flight.  Join us f
 or this Family Nature Program as we learn about the many qualities and ada
 ptations of these fascinating animals. Be prepared to see some of our regi
 onal bats up close!\n\nProfessional development hours are available for te
 achers.
DTSTART;TZID=America/Chicago:20141028T180000
DTEND;TZID=America/Chicago:20141028T193000
LOCATION:
SUMMARY:The Hidden World of Bats
END:VEVENT
END:VCALENDAR
