BEGIN:VCALENDAR
VERSION:2.0
PRODID:-//aldridgegardens.com//NONSGML kigkonsult.se iCalcreator 2.30.10//
CALSCALE:GREGORIAN
METHOD:PUBLISH
UID:500967d0-20b2-43ce-9298-682fb2622d8d
X-WR-CALDESC:Photography Seminar and Outdoor Saturday Workshop\nAldridge Ho
 use\, Thursday\, November 6\, 6:30 to 8:30 p.m. \nOn location at Moss Rock
  Preserve\, Saturday\, November 8\, 8:30 a.m. to 1:00 p.m.   \nInstructor:
  Joseph De Sciose\, former senior staff photographer\, <i>Southern Living<
 /i>\n$130 Members/$165 Non-Members\nThursday lecture only:  $30 Members/$4
 0 Non-Members \nStrictly limited to 12 participants for Moss Rock Saturday
  workshop\n\nIn conjunction with the Aldridge Gallery 'Embracing Silence' 
 exhibit\, Joe De Sciose has designed this seminar and photography shoot fo
 r experienced and novice photographers to gain knowledge and experience in
  outdoor photography. \nThursday evening’s class will include image discus
 sion and camera techniques. We will also go over plans for the Saturday mo
 rning meeting at Moss Rock Preserve.\n\nAward-winning photographer Joseph 
 De Sciose has had his images published in <i>The New York Times Magazine</
 i>\, numerous Conde Nast\, Hearst and Meredith magazines and books\, as we
 ll as in print media for the New York Botanical Garden and The Brooklyn Bo
 tanic Garden. Joe was the sole photographer for three books - 'Garden Guid
 e: New York City\,' the 'Flower Gardener’s Bible\,' which was awarded a Ga
 rden Globe Award for Best Photography for a Garden Book\, and most recentl
 y\, 'The Year Round Vegetable Gardener.'\n\n<i>Rain date: Sunday\, Novembe
 r 9 - same times and location</i>
X-WR-RELCALID:af6f23df9193542610346c4c9a541978
X-WR-TIMEZONE:America/Chicago
BEGIN:VTIMEZONE
TZID:America/Chicago
BEGIN:STANDARD
TZNAME:CST
DTSTART:20141102T020000
TZOFFSETFROM:-0500
TZOFFSETTO:-0600
RDATE:20151101T020000
END:STANDARD
BEGIN:DAYLIGHT
TZNAME:CDT
DTSTART:20140309T020000
TZOFFSETFROM:-0600
TZOFFSETTO:-0500
RDATE:20150308T020000
RDATE:20160313T020000
END:DAYLIGHT
END:VTIMEZONE
BEGIN:VEVENT
UID:5643c58b-87f5-43d2-a89d-10536ace50a6
DTSTAMP:20260424T004758Z
DESCRIPTION:Photography Seminar and Outdoor Saturday Workshop\nAldridge Hou
 se\, Thursday\, November 6\, 6:30 to 8:30 p.m. \nOn location at Moss Rock 
 Preserve\, Saturday\, November 8\, 8:30 a.m. to 1:00 p.m.   \nInstructor: 
 Joseph De Sciose\, former senior staff photographer\, <i>Southern Living</
 i>\n$130 Members/$165 Non-Members\nThursday lecture only:  $30 Members/$40
  Non-Members \nStrictly limited to 12 participants for Moss Rock Saturday 
 workshop\n\nIn conjunction with the Aldridge Gallery 'Embracing Silence' e
 xhibit\, Joe De Sciose has designed this seminar and photography shoot for
  experienced and novice photographers to gain knowledge and experience in 
 outdoor photography. \nThursday evening’s class will include image discuss
 ion and camera techniques. We will also go over plans for the Saturday mor
 ning meeting at Moss Rock Preserve.\n\nAward-winning photographer Joseph D
 e Sciose has had his images published in <i>The New York Times Magazine</i
 >\, numerous Conde Nast\, Hearst and Meredith magazines and books\, as wel
 l as in print media for the New York Botanical Garden and The Brooklyn Bot
 anic Garden. Joe was the sole photographer for three books - 'Garden Guide
 : New York City\,' the 'Flower Gardener’s Bible\,' which was awarded a Gar
 den Globe Award for Best Photography for a Garden Book\, and most recently
 \, 'The Year Round Vegetable Gardener.'\n\n<i>Rain date: Sunday\, November
  9 - same times and location</i>
DTSTART;TZID=America/Chicago:20141106T183000
DTEND;TZID=America/Chicago:20141106T203000
LOCATION:
SUMMARY:Photography Seminar - Part 1
END:VEVENT
END:VCALENDAR
