BEGIN:VCALENDAR
VERSION:2.0
PRODID:-//aldridgegardens.com//NONSGML kigkonsult.se iCalcreator 2.30.10//
CALSCALE:GREGORIAN
METHOD:PUBLISH
UID:d3af164f-d3ef-46bc-8451-daa28cec37c4
X-WR-CALDESC:Have you attended any Get Fit at the Gardens classes yet? If n
 ot\, what are you waiting for? You already come to the Gardens to walk - n
 ow join us to workout. We have another 21-Day Fat Blast starting November 
 3!\n \nJoin Jason Cerniglia\, owner of Hoover Fitness\, author and persona
 l trainer\, for his 21-Day Fat Blast training program. It's one of the mos
 t popular workout programs in our area\, and it will be offered Mondays\, 
 Wednesdays and Fridays at 5:45 a.m. November 3-23.\n \nThe program is gear
 ed towards any age or fitness level - beginners are welcome\, and everyone
  will see results. The cost is $89 and includes group training three times
  weekly\, the 301 workout\, cardio and weight workouts for non-group days\
 , and simple diet tips and quick changes.\n\nFor more information on the c
 lass or to enroll\, email Jason at info@hooverfitness.com. To see photos a
 nd results from the 21 Day Fat Blast training program\, visit hooverfitnes
 s.com.\n\n
X-WR-RELCALID:0d07cccf7154febf7aed25cd7f5ed963
X-WR-TIMEZONE:America/Chicago
BEGIN:VTIMEZONE
TZID:America/Chicago
BEGIN:STANDARD
TZNAME:CST
DTSTART:20141102T020000
TZOFFSETFROM:-0500
TZOFFSETTO:-0600
RDATE:20151101T020000
END:STANDARD
BEGIN:DAYLIGHT
TZNAME:CDT
DTSTART:20140309T020000
TZOFFSETFROM:-0600
TZOFFSETTO:-0500
RDATE:20150308T020000
RDATE:20160313T020000
END:DAYLIGHT
END:VTIMEZONE
BEGIN:VEVENT
UID:5ad0e36e-1814-47e9-b539-61f542c837cf
DTSTAMP:20260424T004952Z
DESCRIPTION:Have you attended any Get Fit at the Gardens classes yet? If no
 t\, what are you waiting for? You already come to the Gardens to walk - no
 w join us to workout. We have another 21-Day Fat Blast starting November 3
 !\n \nJoin Jason Cerniglia\, owner of Hoover Fitness\, author and personal
  trainer\, for his 21-Day Fat Blast training program. It's one of the most
  popular workout programs in our area\, and it will be offered Mondays\, W
 ednesdays and Fridays at 5:45 a.m. November 3-23.\n \nThe program is geare
 d towards any age or fitness level - beginners are welcome\, and everyone 
 will see results. The cost is $89 and includes group training three times 
 weekly\, the 301 workout\, cardio and weight workouts for non-group days\,
  and simple diet tips and quick changes.\n\nFor more information on the cl
 ass or to enroll\, email Jason at info@hooverfitness.com. To see photos an
 d results from the 21 Day Fat Blast training program\, visit hooverfitness
 .com.\n\n
DTSTART;TZID=America/Chicago:20141107T054500
DTEND;TZID=America/Chicago:20141107T063000
LOCATION:Under the Pavilion
SUMMARY:Get Fit at the Gardens!
END:VEVENT
END:VCALENDAR
