BEGIN:VCALENDAR
VERSION:2.0
PRODID:-//aldridgegardens.com//NONSGML kigkonsult.se iCalcreator 2.30.10//
CALSCALE:GREGORIAN
METHOD:PUBLISH
UID:da1c087d-53e7-4a68-b8e5-79f579ffebb0
X-WR-CALDESC:At the November Propagator's Club Wine Reception\, Executive D
 irector Rip Weaver will present Aldridge Gardens' Master Plan. Propagator 
 Club members will be among the first to hear about the exciting vision for
  the Gardens\, and the plans to move towards our goals. \n\nAs always\, th
 is event is free for Propagator Club members\, but we ask that you kindly 
 RSVP.
X-WR-RELCALID:46523fa8f232cd64717175e8e6cd849d
X-WR-TIMEZONE:America/Chicago
BEGIN:VTIMEZONE
TZID:America/Chicago
BEGIN:STANDARD
TZNAME:CST
DTSTART:20141102T020000
TZOFFSETFROM:-0500
TZOFFSETTO:-0600
RDATE:20151101T020000
END:STANDARD
BEGIN:DAYLIGHT
TZNAME:CDT
DTSTART:20140309T020000
TZOFFSETFROM:-0600
TZOFFSETTO:-0500
RDATE:20150308T020000
RDATE:20160313T020000
END:DAYLIGHT
END:VTIMEZONE
BEGIN:VEVENT
UID:35482d5d-9ae3-4cf3-a013-263aa4099d3a
DTSTAMP:20260424T004651Z
DESCRIPTION:At the November Propagator's Club Wine Reception\, Executive Di
 rector Rip Weaver will present Aldridge Gardens' Master Plan. Propagator C
 lub members will be among the first to hear about the exciting vision for 
 the Gardens\, and the plans to move towards our goals. \n\nAs always\, thi
 s event is free for Propagator Club members\, but we ask that you kindly R
 SVP.
DTSTART;TZID=America/Chicago:20141113T170000
DTEND;TZID=America/Chicago:20141113T190000
LOCATION:
SUMMARY:Propagator Club Reception
END:VEVENT
END:VCALENDAR
