BEGIN:VCALENDAR
VERSION:2.0
PRODID:-//aldridgegardens.com//NONSGML kigkonsult.se iCalcreator 2.30.10//
CALSCALE:GREGORIAN
METHOD:PUBLISH
UID:3db84295-5b25-4913-9104-a9e4ad7f8257
X-WR-CALDESC:This is the last members-only guided bird walk of 2014! \n\nLe
 d by Dr. Richard and Patricia Ryel\, this is your chance to see the Garden
 s like you never have before. Enjoy a 2-hour guided walk and discover the 
 birds of Aldridge Gardens.\n\nSo far this year we've seen 57 different spe
 cies of birds - join us and bring binoculars so you don't miss a thing! \n
 \nThis walk is free and for members only\, but is limited to 15 participan
 ts so we ask that you please pre-register.
X-WR-RELCALID:89bdeb46be1e5865a63c4f0b2480ed66
X-WR-TIMEZONE:America/Chicago
BEGIN:VTIMEZONE
TZID:America/Chicago
BEGIN:STANDARD
TZNAME:CST
DTSTART:20141102T020000
TZOFFSETFROM:-0500
TZOFFSETTO:-0600
RDATE:20151101T020000
END:STANDARD
BEGIN:DAYLIGHT
TZNAME:CDT
DTSTART:20140309T020000
TZOFFSETFROM:-0600
TZOFFSETTO:-0500
RDATE:20150308T020000
RDATE:20160313T020000
END:DAYLIGHT
END:VTIMEZONE
BEGIN:VEVENT
UID:5f136230-e1b8-4505-bf59-1d23f4755786
DTSTAMP:20260424T004753Z
DESCRIPTION:This is the last members-only guided bird walk of 2014! \n\nLed
  by Dr. Richard and Patricia Ryel\, this is your chance to see the Gardens
  like you never have before. Enjoy a 2-hour guided walk and discover the b
 irds of Aldridge Gardens.\n\nSo far this year we've seen 57 different spec
 ies of birds - join us and bring binoculars so you don't miss a thing! \n
 \nThis walk is free and for members only\, but is limited to 15 participan
 ts so we ask that you please pre-register.
DTSTART;TZID=America/Chicago:20141122T080000
DTEND;TZID=America/Chicago:20141122T100000
LOCATION:Entrance Plaza
SUMMARY:Members Only Guided Bird Walk
END:VEVENT
END:VCALENDAR
