BEGIN:VCALENDAR
VERSION:2.0
PRODID:-//aldridgegardens.com//NONSGML kigkonsult.se iCalcreator 2.30.10//
CALSCALE:GREGORIAN
METHOD:PUBLISH
UID:2a351e09-d7d9-4318-a7cb-604895c03fbe
X-WR-CALDESC:Designers:  Carol B. Harris and Ricky Whitley\, floral designe
 r\n$30 Members/$40 Non-Members\nLimited to 20 participants\nPre-registrati
 on suggested\n\nNow's your chance to turn your house into a beautiful Sout
 hern home for the holidays!\n\nCome to the Gardens for a morning and watch
  as Carol decorates areas in Aldridge House and out in the Gardens to show
  you how to liven up mantels\, mailboxes\, lamp posts and entry halls usin
 g Alabama greens such as yew\, magnolia\, holly and nandina mixed with pin
 e cones and berries. Then take that experience with you and reproduce the 
 look in your own home for the holidays! \n\nBring gloves\, clippers\, scis
 sors and cameras and join the fun and learn new techniques. Bring a roll o
 f your favorite ribbon\, and Carol will help you get started on making bow
 s and suggest appropriate containers. Participants will receive a discount
  at Roots Garden and Gift Shop on the day of class. Merry Christmas and Ha
 ppy Holidays!\n\n<i>Carol B. Harris\, founder and owner of Lillie Jane\, a
  wedding design service\, is a native of Birmingham and a true Southern gi
 rl through and through. With more than 12 years experience in the floral d
 esign industry\, Birmingham brides are lucky to get on her calendar. \nCar
 ol loves the outdoors and would rather be outside than in. A Master Garden
 er\, she finds inspiration in the beautiful colors palettes of the landsca
 pe. \n\nCarol’s work has been published in Victoria\, Southern Lady\, Sout
 hern Weddings Magazine\, Southern Bride\, B Metro\, Alabama Weddings and B
 irmingham Home & Garden and The Birmingham News. She conducts seminars in 
 perennial gardening and floral design. Carol’s greatest joy is being the m
 other of four wonderful\, grown up children.</i>\n
X-WR-RELCALID:e5ed0e8a0019e6385ab2f9df927e234d
X-WR-TIMEZONE:America/Chicago
BEGIN:VTIMEZONE
TZID:America/Chicago
BEGIN:STANDARD
TZNAME:CST
DTSTART:20141102T020000
TZOFFSETFROM:-0500
TZOFFSETTO:-0600
RDATE:20151101T020000
END:STANDARD
BEGIN:DAYLIGHT
TZNAME:CDT
DTSTART:20140309T020000
TZOFFSETFROM:-0600
TZOFFSETTO:-0500
RDATE:20150308T020000
RDATE:20160313T020000
END:DAYLIGHT
END:VTIMEZONE
BEGIN:VEVENT
UID:1f2d06d4-cb22-4be9-bb92-69fe139264aa
DTSTAMP:20260423T231656Z
DESCRIPTION:Designers:  Carol B. Harris and Ricky Whitley\, floral designer
 \n$30 Members/$40 Non-Members\nLimited to 20 participants\nPre-registratio
 n suggested\n\nNow's your chance to turn your house into a beautiful South
 ern home for the holidays!\n\nCome to the Gardens for a morning and watch 
 as Carol decorates areas in Aldridge House and out in the Gardens to show 
 you how to liven up mantels\, mailboxes\, lamp posts and entry halls using
  Alabama greens such as yew\, magnolia\, holly and nandina mixed with pine
  cones and berries. Then take that experience with you and reproduce the l
 ook in your own home for the holidays! \n\nBring gloves\, clippers\, sciss
 ors and cameras and join the fun and learn new techniques. Bring a roll of
  your favorite ribbon\, and Carol will help you get started on making bows
  and suggest appropriate containers. Participants will receive a discount 
 at Roots Garden and Gift Shop on the day of class. Merry Christmas and Hap
 py Holidays!\n\n<i>Carol B. Harris\, founder and owner of Lillie Jane\, a 
 wedding design service\, is a native of Birmingham and a true Southern gir
 l through and through. With more than 12 years experience in the floral de
 sign industry\, Birmingham brides are lucky to get on her calendar. \nCaro
 l loves the outdoors and would rather be outside than in. A Master Gardene
 r\, she finds inspiration in the beautiful colors palettes of the landscap
 e. \n\nCarol’s work has been published in Victoria\, Southern Lady\, South
 ern Weddings Magazine\, Southern Bride\, B Metro\, Alabama Weddings and Bi
 rmingham Home & Garden and The Birmingham News. She conducts seminars in p
 erennial gardening and floral design. Carol’s greatest joy is being the mo
 ther of four wonderful\, grown up children.</i>\n
DTSTART;TZID=America/Chicago:20141203T100000
DTEND;TZID=America/Chicago:20141203T120000
LOCATION:
SUMMARY:Holiday Greenery Workshop
END:VEVENT
END:VCALENDAR
