BEGIN:VCALENDAR
VERSION:2.0
PRODID:-//aldridgegardens.com//NONSGML kigkonsult.se iCalcreator 2.30.10//
CALSCALE:GREGORIAN
METHOD:PUBLISH
UID:aa46a079-12b9-4293-93c2-823e9b30e3f4
X-WR-CALDESC:Find bundled greenery for all of your holiday trimmings! We’ll
  also have a limited selection of  Christmas trees from Mountain Scouts Ch
 ristmas Tree Sales Association available. The sale will be held behind Ald
 ridge House\, on the patio of Roots\, our Garden and Gift Shop. In case of
  rain\, look for us under the Pavilion. \n\nAnd as long as you’re here and
  getting into the spirit of the season\, stop in at Roots for stress-free 
 shopping for great holiday gifts! Follow the arbor-covered path to display
  areas showcasing plants\, pots and containers\, books\, home and garden a
 ccessories and more. Roots is open Monday through Friday\, 10:00 a.m. to 3
 :00 p.m.
X-WR-RELCALID:fef089340d6acfb8b760c03687ed23b9
X-WR-TIMEZONE:America/Chicago
BEGIN:VTIMEZONE
TZID:America/Chicago
BEGIN:STANDARD
TZNAME:CST
DTSTART:20141102T020000
TZOFFSETFROM:-0500
TZOFFSETTO:-0600
RDATE:20151101T020000
END:STANDARD
BEGIN:DAYLIGHT
TZNAME:CDT
DTSTART:20140309T020000
TZOFFSETFROM:-0600
TZOFFSETTO:-0500
RDATE:20150308T020000
RDATE:20160313T020000
END:DAYLIGHT
END:VTIMEZONE
BEGIN:VEVENT
UID:a182d0ef-92f1-49c3-bc7f-8a2c2687e210
DTSTAMP:20260423T232629Z
DESCRIPTION:Find bundled greenery for all of your holiday trimmings! We’ll 
 also have a limited selection of  Christmas trees from Mountain Scouts Chr
 istmas Tree Sales Association available. The sale will be held behind Aldr
 idge House\, on the patio of Roots\, our Garden and Gift Shop. In case of 
 rain\, look for us under the Pavilion. \n\nAnd as long as you’re here and 
 getting into the spirit of the season\, stop in at Roots for stress-free s
 hopping for great holiday gifts! Follow the arbor-covered path to display 
 areas showcasing plants\, pots and containers\, books\, home and garden ac
 cessories and more. Roots is open Monday through Friday\, 10:00 a.m. to 3:
 00 p.m.
DTSTART;TZID=America/Chicago:20141206T090000
DTEND;TZID=America/Chicago:20141206T130000
LOCATION:Behind Aldridge House - on the patio at Roots
SUMMARY:Holiday Greenery Sale
END:VEVENT
END:VCALENDAR
