BEGIN:VCALENDAR
VERSION:2.0
PRODID:-//aldridgegardens.com//NONSGML kigkonsult.se iCalcreator 2.30.10//
CALSCALE:GREGORIAN
METHOD:PUBLISH
UID:0fbb54b4-5d20-4654-905e-c4994b489272
X-WR-CALDESC:
X-WR-RELCALID:f9406e2dd3c06235299b8a738c351239
X-WR-TIMEZONE:America/Chicago
BEGIN:VTIMEZONE
TZID:America/Chicago
BEGIN:STANDARD
TZNAME:CST
DTSTART:20141102T020000
TZOFFSETFROM:-0500
TZOFFSETTO:-0600
RDATE:20151101T020000
END:STANDARD
BEGIN:DAYLIGHT
TZNAME:CDT
DTSTART:20140309T020000
TZOFFSETFROM:-0600
TZOFFSETTO:-0500
RDATE:20150308T020000
RDATE:20160313T020000
END:DAYLIGHT
END:VTIMEZONE
BEGIN:VEVENT
UID:ed85e8fb-46f5-4c14-a550-7e55f3e15d65
DTSTAMP:20260423T232441Z
DESCRIPTION:
DTSTART;TZID=America/Chicago:20141207T140000
DTEND;TZID=America/Chicago:20141207T160000
LOCATION:
SUMMARY:Hoover Belles Cookie Social
END:VEVENT
END:VCALENDAR
