BEGIN:VCALENDAR
VERSION:2.0
PRODID:-//aldridgegardens.com//NONSGML kigkonsult.se iCalcreator 2.30.10//
CALSCALE:GREGORIAN
METHOD:PUBLISH
UID:6da47066-f697-4518-9b24-20b431590fbe
X-WR-CALDESC:Meet mixed-media artist Toby Klein and get a first glance at h
 er new exhibit at Aldridge Gardens. \n\nLike a kaleidoscope\, Toby's conte
 mporary art is created with a burst of color\, symmetry of design and moti
 on. Her goal is to intrigue each person by drawing the eye into the piece 
 of art\, while holding it there so they can see all of the intricate detai
 l. In developing her style\, she has always been intrigued by different an
 d unusual pieces of art and has strived to do the same in her work.  Her w
 ork is contemporary and ranges from different degrees of abstraction and e
 xperimental to representation.  Her images both representational and non-o
 bjective show the use of color\, design & techniques as seen through the a
 rtist's eyes.\n
X-WR-RELCALID:d1abca35bef77cf4891f880e85d17d9d
X-WR-TIMEZONE:America/Chicago
BEGIN:VTIMEZONE
TZID:America/Chicago
BEGIN:STANDARD
TZNAME:CST
DTSTART:20141102T020000
TZOFFSETFROM:-0500
TZOFFSETTO:-0600
RDATE:20151101T020000
END:STANDARD
BEGIN:DAYLIGHT
TZNAME:CDT
DTSTART:20140309T020000
TZOFFSETFROM:-0600
TZOFFSETTO:-0500
RDATE:20150308T020000
RDATE:20160313T020000
END:DAYLIGHT
END:VTIMEZONE
BEGIN:VEVENT
UID:eb25c39e-f6b4-4cfd-a183-b1ff1acc46c0
DTSTAMP:20260423T231812Z
DESCRIPTION:Meet mixed-media artist Toby Klein and get a first glance at he
 r new exhibit at Aldridge Gardens. \n\nLike a kaleidoscope\, Toby's contem
 porary art is created with a burst of color\, symmetry of design and motio
 n. Her goal is to intrigue each person by drawing the eye into the piece o
 f art\, while holding it there so they can see all of the intricate detail
 . In developing her style\, she has always been intrigued by different and
  unusual pieces of art and has strived to do the same in her work.  Her wo
 rk is contemporary and ranges from different degrees of abstraction and ex
 perimental to representation.  Her images both representational and non-ob
 jective show the use of color\, design & techniques as seen through the ar
 tist's eyes.\n
DTSTART;TZID=America/Chicago:20141210T180000
DTEND;TZID=America/Chicago:20141210T200000
LOCATION:
SUMMARY:Meet the Artist Reception with Toby Klein
END:VEVENT
END:VCALENDAR
