BEGIN:VCALENDAR
VERSION:2.0
PRODID:-//aldridgegardens.com//NONSGML kigkonsult.se iCalcreator 2.30.10//
CALSCALE:GREGORIAN
METHOD:PUBLISH
UID:f5235ad6-b18f-4ff4-8c6e-2ebbd53112cf
X-WR-CALDESC:At the December Propagator's Club Wine Reception\, members wil
 l have the opportunity to meet and mingle with mixed-media artist Toby Kle
 in prior to the public event at 6:00. Join us in Aldridge House for food\,
  wine and fellowship with other Propagator Club members\, and get the firs
 t look at Ms. Klein's latest colorful and enchanting works. \n\nAs always\
 , this event is free for Propagator Club members\, but we ask that you kin
 dly RSVP.
X-WR-RELCALID:50d044c32239b49e5d17c9e905817247
X-WR-TIMEZONE:America/Chicago
BEGIN:VTIMEZONE
TZID:America/Chicago
BEGIN:STANDARD
TZNAME:CST
DTSTART:20141102T020000
TZOFFSETFROM:-0500
TZOFFSETTO:-0600
RDATE:20151101T020000
END:STANDARD
BEGIN:DAYLIGHT
TZNAME:CDT
DTSTART:20140309T020000
TZOFFSETFROM:-0600
TZOFFSETTO:-0500
RDATE:20150308T020000
RDATE:20160313T020000
END:DAYLIGHT
END:VTIMEZONE
BEGIN:VEVENT
UID:f51201f2-7847-40ca-a69c-4a40cbd170de
DTSTAMP:20260423T231522Z
DESCRIPTION:At the December Propagator's Club Wine Reception\, members will
  have the opportunity to meet and mingle with mixed-media artist Toby Klei
 n prior to the public event at 6:00. Join us in Aldridge House for food\, 
 wine and fellowship with other Propagator Club members\, and get the first
  look at Ms. Klein's latest colorful and enchanting works. \n\nAs always\,
  this event is free for Propagator Club members\, but we ask that you kind
 ly RSVP.
DTSTART;TZID=America/Chicago:20141210T170000
DTEND;TZID=America/Chicago:20141210T180000
LOCATION:
SUMMARY:Propagator Club Wine Reception
END:VEVENT
END:VCALENDAR
