BEGIN:VCALENDAR
VERSION:2.0
PRODID:-//aldridgegardens.com//NONSGML kigkonsult.se iCalcreator 2.30.10//
CALSCALE:GREGORIAN
METHOD:PUBLISH
UID:ae1665e5-1637-4d32-9ca5-7990b93c572b
X-WR-CALDESC:Thank you to the 2014 Aldridge Gardens volunteers!
X-WR-RELCALID:5f3ffa46493595661181b5c146090644
X-WR-TIMEZONE:America/Chicago
BEGIN:VTIMEZONE
TZID:America/Chicago
BEGIN:STANDARD
TZNAME:CST
DTSTART:20141102T020000
TZOFFSETFROM:-0500
TZOFFSETTO:-0600
RDATE:20151101T020000
END:STANDARD
BEGIN:DAYLIGHT
TZNAME:CDT
DTSTART:20140309T020000
TZOFFSETFROM:-0600
TZOFFSETTO:-0500
RDATE:20150308T020000
RDATE:20160313T020000
END:DAYLIGHT
END:VTIMEZONE
BEGIN:VEVENT
UID:dc1d3459-9550-4dd8-b85e-0bc09c0230b6
DTSTAMP:20260423T232018Z
DESCRIPTION:Thank you to the 2014 Aldridge Gardens volunteers!
DTSTART;TZID=America/Chicago:20141216T113000
DTEND;TZID=America/Chicago:20141216T130000
LOCATION:
SUMMARY:Holiday Volunteer Luncheon
END:VEVENT
END:VCALENDAR
