BEGIN:VCALENDAR
VERSION:2.0
PRODID:-//aldridgegardens.com//NONSGML kigkonsult.se iCalcreator 2.30.10//
CALSCALE:GREGORIAN
METHOD:PUBLISH
UID:99f0d057-77f5-4256-b17d-b647154ba072
X-WR-CALDESC:Enjoy an intimate discussion with conservation photographer Be
 th Maynor Young. The former Southern Living photographer found her calling
  capturing images of rare plant life surrounding Alabama’s rivers. Her pho
 tographs of the state’s Cahaba lilies helped bring national and internatio
 nal attention to the Cahaba River and its unique beauty and challenges. He
 r work has led to the protection of areas in and around our waterways. \n
 \nAs always\, this event is free to Propagator Club members\, but we ask t
 hat you kindly RSVP.
X-WR-RELCALID:4fbafb6bf77a67fcbbed34fdc72d6b63
X-WR-TIMEZONE:America/Chicago
BEGIN:VTIMEZONE
TZID:America/Chicago
BEGIN:STANDARD
TZNAME:CST
DTSTART:20141102T020000
TZOFFSETFROM:-0500
TZOFFSETTO:-0600
RDATE:20151101T020000
END:STANDARD
BEGIN:DAYLIGHT
TZNAME:CDT
DTSTART:20140309T020000
TZOFFSETFROM:-0600
TZOFFSETTO:-0500
RDATE:20150308T020000
RDATE:20160313T020000
END:DAYLIGHT
END:VTIMEZONE
BEGIN:VEVENT
UID:387e9de5-2e89-4bf8-bdb3-13cbc07d35d5
DTSTAMP:20260423T220032Z
DESCRIPTION:Enjoy an intimate discussion with conservation photographer Bet
 h Maynor Young. The former Southern Living photographer found her calling 
 capturing images of rare plant life surrounding Alabama’s rivers. Her phot
 ographs of the state’s Cahaba lilies helped bring national and internation
 al attention to the Cahaba River and its unique beauty and challenges. Her
  work has led to the protection of areas in and around our waterways. \n\n
 As always\, this event is free to Propagator Club members\, but we ask tha
 t you kindly RSVP.
DTSTART;TZID=America/Chicago:20150108T170000
DTEND;TZID=America/Chicago:20150108T190000
LOCATION:
SUMMARY:Propagator’s Club Wine Reception with Beth Maynor Young
END:VEVENT
END:VCALENDAR
