BEGIN:VCALENDAR
VERSION:2.0
PRODID:-//aldridgegardens.com//NONSGML kigkonsult.se iCalcreator 2.30.10//
CALSCALE:GREGORIAN
METHOD:PUBLISH
UID:ac91db01-d781-4357-94bf-9d5a0ad8920c
X-WR-CALDESC:Meet mixed-media artist Meredith Keith. Popular with collector
 s across the country\, Meredith’s lines and colors collaborate to form art
  that bears an expression of her soul and spirit. See for yourself how her
  skill with texture and color makes her pieces easily identifiable. \n\nTh
 is event is free\, but so that we may properly plan\, we ask that guests k
 indly RSVP. \n\n
X-WR-RELCALID:958177f46671a5a9256505c3036abcc9
X-WR-TIMEZONE:America/Chicago
BEGIN:VTIMEZONE
TZID:America/Chicago
BEGIN:STANDARD
TZNAME:CST
DTSTART:20141102T020000
TZOFFSETFROM:-0500
TZOFFSETTO:-0600
RDATE:20151101T020000
END:STANDARD
BEGIN:DAYLIGHT
TZNAME:CDT
DTSTART:20140309T020000
TZOFFSETFROM:-0600
TZOFFSETTO:-0500
RDATE:20150308T020000
RDATE:20160313T020000
END:DAYLIGHT
END:VTIMEZONE
BEGIN:VEVENT
UID:68ddf345-cbae-409f-ac90-88eba04b1482
DTSTAMP:20260423T210707Z
DESCRIPTION:Meet mixed-media artist Meredith Keith. Popular with collectors
  across the country\, Meredith’s lines and colors collaborate to form art 
 that bears an expression of her soul and spirit. See for yourself how her 
 skill with texture and color makes her pieces easily identifiable. \n\nThi
 s event is free\, but so that we may properly plan\, we ask that guests ki
 ndly RSVP. \n\n
DTSTART;TZID=America/Chicago:20150212T180000
DTEND;TZID=America/Chicago:20150212T200000
LOCATION:
SUMMARY:Meet the Artist Reception: Meredith Keith
END:VEVENT
END:VCALENDAR
