BEGIN:VCALENDAR
VERSION:2.0
PRODID:-//aldridgegardens.com//NONSGML kigkonsult.se iCalcreator 2.30.10//
CALSCALE:GREGORIAN
METHOD:PUBLISH
UID:8d75e384-63f8-44ed-b3ae-dd5885536d60
X-WR-CALDESC:At the February Propagator's Wine Reception\, members will hav
 e the opportunity to meet and mingle with mixed-media artist Meredith Keit
 h prior to the public event at 6:00. Join us in Aldridge House for food\, 
 wine and fellowship with other Propagator Level members\, and get the firs
 t look at Ms. Keith's most recent works that deal with God’s creations – b
 e it people\, animals\, landscapes\, cityscapes or abstract colors.
X-WR-RELCALID:7081874c86ca7951daaadf01bceae6dd
X-WR-TIMEZONE:America/Chicago
BEGIN:VTIMEZONE
TZID:America/Chicago
BEGIN:STANDARD
TZNAME:CST
DTSTART:20141102T020000
TZOFFSETFROM:-0500
TZOFFSETTO:-0600
RDATE:20151101T020000
END:STANDARD
BEGIN:DAYLIGHT
TZNAME:CDT
DTSTART:20140309T020000
TZOFFSETFROM:-0600
TZOFFSETTO:-0500
RDATE:20150308T020000
RDATE:20160313T020000
END:DAYLIGHT
END:VTIMEZONE
BEGIN:VEVENT
UID:d8fd1631-bcde-45ca-930d-7ddba0a89157
DTSTAMP:20260423T203009Z
DESCRIPTION:At the February Propagator's Wine Reception\, members will have
  the opportunity to meet and mingle with mixed-media artist Meredith Keith
  prior to the public event at 6:00. Join us in Aldridge House for food\, w
 ine and fellowship with other Propagator Level members\, and get the first
  look at Ms. Keith's most recent works that deal with God’s creations – be
  it people\, animals\, landscapes\, cityscapes or abstract colors.
DTSTART;TZID=America/Chicago:20150212T170000
DTEND;TZID=America/Chicago:20150212T180000
LOCATION:
SUMMARY:Propagator Wine Reception: Meet the Artist Meredith Keith
END:VEVENT
END:VCALENDAR
