BEGIN:VCALENDAR
VERSION:2.0
PRODID:-//aldridgegardens.com//NONSGML kigkonsult.se iCalcreator 2.30.10//
CALSCALE:GREGORIAN
METHOD:PUBLISH
UID:50d5e1ef-e7c0-48f7-ae48-c3e80450ea1d
X-WR-CALDESC:$12 members/$15 non-members\n\nLearn the correct guidelines to
  pruning trees and shrubs\, how to eliminate “crape murder\,” and the best
  ways to remove unwanted limbs and stems to bring new vigor to your landsc
 ape. \n\nAldridge Gardens’ Executive Director Rip Weaver will teach partic
 ipants how to correctly prune crape myrtles and other ornamentals. Weather
  permitting\, he'll demonstrate out in the Gardens by pruning some of our 
 favorite shrubs and specific landscape plants. Bring hand pruners if you'd
  like to help out!\n \n
X-WR-RELCALID:cfda0ee46e03151f756b3f27c5aab03e
X-WR-TIMEZONE:America/Chicago
BEGIN:VTIMEZONE
TZID:America/Chicago
BEGIN:STANDARD
TZNAME:CST
DTSTART:20141102T020000
TZOFFSETFROM:-0500
TZOFFSETTO:-0600
RDATE:20151101T020000
END:STANDARD
BEGIN:DAYLIGHT
TZNAME:CDT
DTSTART:20140309T020000
TZOFFSETFROM:-0600
TZOFFSETTO:-0500
RDATE:20150308T020000
RDATE:20160313T020000
END:DAYLIGHT
END:VTIMEZONE
BEGIN:VEVENT
UID:61764d92-2e41-4a1c-8092-6d8065bf5d6e
DTSTAMP:20260423T202258Z
DESCRIPTION:$12 members/$15 non-members\n\nLearn the correct guidelines to 
 pruning trees and shrubs\, how to eliminate “crape murder\,” and the best 
 ways to remove unwanted limbs and stems to bring new vigor to your landsca
 pe. \n\nAldridge Gardens’ Executive Director Rip Weaver will teach partici
 pants how to correctly prune crape myrtles and other ornamentals. Weather 
 permitting\, he'll demonstrate out in the Gardens by pruning some of our f
 avorite shrubs and specific landscape plants. Bring hand pruners if you'd 
 like to help out!\n \n
DTSTART;TZID=America/Chicago:20150222T133000
DTEND;TZID=America/Chicago:20150222T160000
LOCATION:
SUMMARY:Pruning for Form and How to Avoid “Crape Murder”
END:VEVENT
END:VCALENDAR
