BEGIN:VCALENDAR
VERSION:2.0
PRODID:-//aldridgegardens.com//NONSGML kigkonsult.se iCalcreator 2.30.10//
CALSCALE:GREGORIAN
METHOD:PUBLISH
UID:368d4f7f-75b6-4a39-a6ea-a3f0e42ac4bd
X-WR-CALDESC:Radical self-care. Balance. Healthy is the new skinny. \n\nSta
 r Rosser loves it all. That's what her yoga classes and lifestyle are abou
 t. \n\nIt's a bigger picture. It's about balance. It's about taking the ti
 me to connect with the body. It's about giving self-care\, self-acceptance
  and self love. These body positive classes welcome all shapes and sizes\,
  and provide a workout to the body\, mind and soul. \n\nReconnect with you
 r body and breath\, while surrounded by nature. Join Star for her Gentle Y
 oga classes at Aldridge Gardens on Wednesday mornings March through June (
 no class June 3.) Classes are drop-in\, weather permitting. $15 per class.
  Bring a yoga mat\, a thick towel\, a positive attitude and an open heart.
  \n
X-WR-RELCALID:03a70ddd4c7660fdda8fdc25d68c1df0
X-WR-TIMEZONE:America/Chicago
BEGIN:VTIMEZONE
TZID:America/Chicago
BEGIN:STANDARD
TZNAME:CST
DTSTART:20141102T020000
TZOFFSETFROM:-0500
TZOFFSETTO:-0600
RDATE:20151101T020000
END:STANDARD
BEGIN:DAYLIGHT
TZNAME:CDT
DTSTART:20150308T020000
TZOFFSETFROM:-0600
TZOFFSETTO:-0500
RDATE:20160313T020000
END:DAYLIGHT
END:VTIMEZONE
BEGIN:VEVENT
UID:abd56f01-07d0-4f98-a783-b3a49033ddeb
DTSTAMP:20260423T185554Z
DESCRIPTION:Radical self-care. Balance. Healthy is the new skinny. \n\nStar
  Rosser loves it all. That's what her yoga classes and lifestyle are about
 . \n\nIt's a bigger picture. It's about balance. It's about taking the tim
 e to connect with the body. It's about giving self-care\, self-acceptance 
 and self love. These body positive classes welcome all shapes and sizes\, 
 and provide a workout to the body\, mind and soul. \n\nReconnect with your
  body and breath\, while surrounded by nature. Join Star for her Gentle Yo
 ga classes at Aldridge Gardens on Wednesday mornings March through June (n
 o class June 3.) Classes are drop-in\, weather permitting. $15 per class. 
 Bring a yoga mat\, a thick towel\, a positive attitude and an open heart. 
 \n
DTSTART;TZID=America/Chicago:20150311T093000
DTEND;TZID=America/Chicago:20150311T104500
LOCATION:The patio near Roots Garden and Gift Shop
SUMMARY:Gentle Yoga
END:VEVENT
END:VCALENDAR
