BEGIN:VCALENDAR
VERSION:2.0
PRODID:-//aldridgegardens.com//NONSGML kigkonsult.se iCalcreator 2.30.10//
CALSCALE:GREGORIAN
METHOD:PUBLISH
UID:26e02ff4-9246-4a5f-a371-feb88d077996
X-WR-CALDESC:At this monthly gathering for Propagator Level members\, guest
 s will meet and mingle with Heather Skaggs\, author of <i>Bluff Park\, a p
 ictorial history of Hoover</i>\, and <i>Hoover</i>\, part of the Images of
  America series. During the discussion\, Skaggs will touch on keeping old 
 photos protected and how to store scrapbooks. She'll also talk briefly on 
 snapping images the photographer may not think are important now\, but tha
 t could have historical value later on. \n\nAs always\, this event is free
  to Propagator Level members. So that we may properly plan\, we ask that y
 ou kindly RSVP.\n
X-WR-RELCALID:bf4fd9e726e86b496f979c4ac895b5fe
X-WR-TIMEZONE:America/Chicago
BEGIN:VTIMEZONE
TZID:America/Chicago
BEGIN:STANDARD
TZNAME:CST
DTSTART:20141102T020000
TZOFFSETFROM:-0500
TZOFFSETTO:-0600
RDATE:20151101T020000
END:STANDARD
BEGIN:DAYLIGHT
TZNAME:CDT
DTSTART:20150308T020000
TZOFFSETFROM:-0600
TZOFFSETTO:-0500
RDATE:20160313T020000
END:DAYLIGHT
END:VTIMEZONE
BEGIN:VEVENT
UID:bf434e55-29ec-479d-9236-30411c58bb8b
DTSTAMP:20260423T185028Z
DESCRIPTION:At this monthly gathering for Propagator Level members\, guests
  will meet and mingle with Heather Skaggs\, author of <i>Bluff Park\, a pi
 ctorial history of Hoover</i>\, and <i>Hoover</i>\, part of the Images of 
 America series. During the discussion\, Skaggs will touch on keeping old p
 hotos protected and how to store scrapbooks. She'll also talk briefly on s
 napping images the photographer may not think are important now\, but that
  could have historical value later on. \n\nAs always\, this event is free 
 to Propagator Level members. So that we may properly plan\, we ask that yo
 u kindly RSVP.\n
DTSTART;TZID=America/Chicago:20150312T170000
DTEND;TZID=America/Chicago:20150312T190000
LOCATION:
SUMMARY:Propagator Club Wine Reception
END:VEVENT
END:VCALENDAR
