BEGIN:VCALENDAR
VERSION:2.0
PRODID:-//aldridgegardens.com//NONSGML kigkonsult.se iCalcreator 2.30.10//
CALSCALE:GREGORIAN
METHOD:PUBLISH
UID:26592f9b-ace5-4f2d-bdb2-e7ac4a631e07
X-WR-CALDESC:This year\, Hoover’s Woofstock and Aldridge Gardens’ PAWS in t
 he Gardens are combining to create one doggone good day for you and your b
 est friends!\n\nBring your leashed pets and enjoy a walk through the Garde
 ns. There will be food\, dog-centered displays and advice for caring for y
 our pet. \n\nThe City of Hoover and ABC 33/40 and its affiliates are partn
 ering with Aldridge Gardens to bring this great event to you.\nProceeds be
 nefit Shelby County Humane Society and Aldridge Gardens. \n$10 per dog or 
 dogless family\n<i>Rain date: Sunday\, March 22\, 9:00 a.m. to 4:00 p.m.</
 i>\n\nRising star Racquel Lily will perform under the Ginkgo tree from 11:
 00 a.m. to Noon. Live music provided by Birmingham singer and songwriter E
 rath Old from Noon to 2:00.\n\nDog costume contest judging starts at 2:00.
  Register your pooch at the gate!\n\nLook for these great vendors and more
  throughout the Gardens:\nAdopt-A-Golden Birmingham\, Inc.\nAlabama Spay a
 nd Neuter\, Inc.\nBama Bully Rescue\nBasset Hound Rescue\nBirmingham Bosto
 n Terrier Rescue Group\nCahabones\nCalifornia Pizza Kitchen\nCavalier Resc
 ue of Alabama\nDominion Dog Training\nDwight's Wood Shop\nEssential Oils f
 or Pets - Mendy Lyle\nHand in Paw \nHeartWords by Suzanne Tullis\nHollywoo
 d Feed\nInvisible Fence of Central Alabama\nJazzy J Designs\nKevin McClean
 \, Pet Portraiture & Mythological Artist\nLegend Dog Training \nMosquito S
 quad of Greater Birmingham\nNicki's Clay Creations\nOak View Animal Hospit
 al - Dr. Elizabeth Robinson\nPeace Love & Dog Paws Rescue\, Inc.\nPowerBar
 k\, LLC\nPuppy Luv Glam\, LLC \nRepicci's Italian Ice and Gellato\nRoverch
 ase LLC \nShelby Humane Society \nSnappy's Gourmet Dog Treats \nThe Pamper
 ed Pet Resort\, Inc \nWags 'N Whiskers Comprehensive Pet Care\nWhiskers & 
 Wags Pet Boutique\n\n
X-WR-RELCALID:3f36a243a2d53cec0f42efadca0df34e
X-WR-TIMEZONE:America/Chicago
BEGIN:VTIMEZONE
TZID:America/Chicago
BEGIN:STANDARD
TZNAME:CST
DTSTART:20141102T020000
TZOFFSETFROM:-0500
TZOFFSETTO:-0600
RDATE:20151101T020000
END:STANDARD
BEGIN:DAYLIGHT
TZNAME:CDT
DTSTART:20150308T020000
TZOFFSETFROM:-0600
TZOFFSETTO:-0500
RDATE:20160313T020000
END:DAYLIGHT
END:VTIMEZONE
BEGIN:VEVENT
UID:aa2fd9ee-1c37-4afe-94be-78dcd4614da2
DTSTAMP:20260423T184757Z
DESCRIPTION:This year\, Hoover’s Woofstock and Aldridge Gardens’ PAWS in th
 e Gardens are combining to create one doggone good day for you and your be
 st friends!\n\nBring your leashed pets and enjoy a walk through the Garden
 s. There will be food\, dog-centered displays and advice for caring for yo
 ur pet. \n\nThe City of Hoover and ABC 33/40 and its affiliates are partne
 ring with Aldridge Gardens to bring this great event to you.\nProceeds ben
 efit Shelby County Humane Society and Aldridge Gardens. \n$10 per dog or d
 ogless family\n<i>Rain date: Sunday\, March 22\, 9:00 a.m. to 4:00 p.m.</i
 >\n\nRising star Racquel Lily will perform under the Ginkgo tree from 11:0
 0 a.m. to Noon. Live music provided by Birmingham singer and songwriter Er
 ath Old from Noon to 2:00.\n\nDog costume contest judging starts at 2:00. 
 Register your pooch at the gate!\n\nLook for these great vendors and more 
 throughout the Gardens:\nAdopt-A-Golden Birmingham\, Inc.\nAlabama Spay an
 d Neuter\, Inc.\nBama Bully Rescue\nBasset Hound Rescue\nBirmingham Boston
  Terrier Rescue Group\nCahabones\nCalifornia Pizza Kitchen\nCavalier Rescu
 e of Alabama\nDominion Dog Training\nDwight's Wood Shop\nEssential Oils fo
 r Pets - Mendy Lyle\nHand in Paw \nHeartWords by Suzanne Tullis\nHollywood
  Feed\nInvisible Fence of Central Alabama\nJazzy J Designs\nKevin McClean\
 , Pet Portraiture & Mythological Artist\nLegend Dog Training \nMosquito Sq
 uad of Greater Birmingham\nNicki's Clay Creations\nOak View Animal Hospita
 l - Dr. Elizabeth Robinson\nPeace Love & Dog Paws Rescue\, Inc.\nPowerBark
 \, LLC\nPuppy Luv Glam\, LLC \nRepicci's Italian Ice and Gellato\nRovercha
 se LLC \nShelby Humane Society \nSnappy's Gourmet Dog Treats \nThe Pampere
 d Pet Resort\, Inc \nWags 'N Whiskers Comprehensive Pet Care\nWhiskers & W
 ags Pet Boutique\n\n
DTSTART;TZID=America/Chicago:20150321T090000
DTEND;TZID=America/Chicago:20150321T170000
LOCATION:
SUMMARY:PAWS in the Gardens
END:VEVENT
END:VCALENDAR
