BEGIN:VCALENDAR
VERSION:2.0
PRODID:-//aldridgegardens.com//NONSGML kigkonsult.se iCalcreator 2.30.10//
CALSCALE:GREGORIAN
METHOD:PUBLISH
UID:63831da9-13d2-4616-bb68-3541ebd9986b
X-WR-CALDESC:This year\, Hoover’s Woofstock and Aldridge Gardens’ PAWS in t
 he Gardens are combining to create one doggone good day for you and your b
 est friends!\n\nBring your leashed pets and enjoy a walk through the Garde
 ns. There will be food\, dog-centered displays and advice for caring for y
 our pet. \n\nThe City of Hoover and ABC 33/40 and its affiliates are partn
 ering with Aldridge Gardens to bring this great event to you.\nProceeds be
 nefit Shelby County Humane Society and Aldridge Gardens. \n$10 per dog or 
 dogless family\n\nRising star Racquel Lily will perform under the Ginkgo t
 ree from 11:00 a.m. to Noon. Live music provided by Birmingham singer and 
 songwriter Erath Old from Noon to 2:00.\n\nDog costume contest judging sta
 rts at 2:00. Register your pooch at the gate!\n\nLook for these great vend
 ors and more throughout the Gardens:\nAdopt-A-Golden Birmingham\, Inc.\nAl
 abama Spay and Neuter\, Inc.\nBama Bully Rescue\nBasset Hound Rescue\nBirm
 ingham Boston Terrier Rescue Group\nCahabones\nCalifornia Pizza Kitchen\nC
 avalier Rescue of Alabama\nDominion Dog Training\nDwight's Wood Shop\nEsse
 ntial Oils for Pets - Mendy Lyle\nHand in Paw \nHeartWords by Suzanne Tull
 is\nHollywood Feed\nInvisible Fence of Central Alabama\nJazzy J Designs\nK
 evin McClean\, Pet Portraiture & Mythological Artist\nLegend Dog Training 
 \nMosquito Squad of Greater Birmingham\nNicki's Clay Creations\nOak View A
 nimal Hospital - Dr. Elizabeth Robinson\nPeace Love & Dog Paws Rescue\, In
 c.\nPowerBark\, LLC\nPuppy Luv Glam\, LLC \nRepicci's Italian Ice and Gell
 ato\nRoverchase LLC \nShelby Humane Society \nSnappy's Gourmet Dog Treats 
 \nThe Pampered Pet Resort\, Inc \nWags 'N Whiskers \nWhiskers & Wags Pet B
 outique
X-WR-RELCALID:48261f23b1411666fce80c249a8e75c3
X-WR-TIMEZONE:America/Chicago
BEGIN:VTIMEZONE
TZID:America/Chicago
BEGIN:STANDARD
TZNAME:CST
DTSTART:20141102T020000
TZOFFSETFROM:-0500
TZOFFSETTO:-0600
RDATE:20151101T020000
END:STANDARD
BEGIN:DAYLIGHT
TZNAME:CDT
DTSTART:20150308T020000
TZOFFSETFROM:-0600
TZOFFSETTO:-0500
RDATE:20160313T020000
END:DAYLIGHT
END:VTIMEZONE
BEGIN:VEVENT
UID:b113413c-1616-4ba8-a187-c7470ffb157e
DTSTAMP:20260423T190745Z
DESCRIPTION:This year\, Hoover’s Woofstock and Aldridge Gardens’ PAWS in th
 e Gardens are combining to create one doggone good day for you and your be
 st friends!\n\nBring your leashed pets and enjoy a walk through the Garden
 s. There will be food\, dog-centered displays and advice for caring for yo
 ur pet. \n\nThe City of Hoover and ABC 33/40 and its affiliates are partne
 ring with Aldridge Gardens to bring this great event to you.\nProceeds ben
 efit Shelby County Humane Society and Aldridge Gardens. \n$10 per dog or d
 ogless family\n\nRising star Racquel Lily will perform under the Ginkgo tr
 ee from 11:00 a.m. to Noon. Live music provided by Birmingham singer and s
 ongwriter Erath Old from Noon to 2:00.\n\nDog costume contest judging star
 ts at 2:00. Register your pooch at the gate!\n\nLook for these great vendo
 rs and more throughout the Gardens:\nAdopt-A-Golden Birmingham\, Inc.\nAla
 bama Spay and Neuter\, Inc.\nBama Bully Rescue\nBasset Hound Rescue\nBirmi
 ngham Boston Terrier Rescue Group\nCahabones\nCalifornia Pizza Kitchen\nCa
 valier Rescue of Alabama\nDominion Dog Training\nDwight's Wood Shop\nEssen
 tial Oils for Pets - Mendy Lyle\nHand in Paw \nHeartWords by Suzanne Tulli
 s\nHollywood Feed\nInvisible Fence of Central Alabama\nJazzy J Designs\nKe
 vin McClean\, Pet Portraiture & Mythological Artist\nLegend Dog Training 
 \nMosquito Squad of Greater Birmingham\nNicki's Clay Creations\nOak View A
 nimal Hospital - Dr. Elizabeth Robinson\nPeace Love & Dog Paws Rescue\, In
 c.\nPowerBark\, LLC\nPuppy Luv Glam\, LLC \nRepicci's Italian Ice and Gell
 ato\nRoverchase LLC \nShelby Humane Society \nSnappy's Gourmet Dog Treats 
 \nThe Pampered Pet Resort\, Inc \nWags 'N Whiskers \nWhiskers & Wags Pet B
 outique
DTSTART;TZID=America/Chicago:20150322T090000
DTEND;TZID=America/Chicago:20150322T170000
LOCATION:
SUMMARY:PAWS in the Gardens RAIN DATE
END:VEVENT
END:VCALENDAR
