BEGIN:VCALENDAR
VERSION:2.0
PRODID:-//aldridgegardens.com//NONSGML kigkonsult.se iCalcreator 2.30.10//
CALSCALE:GREGORIAN
METHOD:PUBLISH
UID:b237769a-ea65-4e01-827e-d60043a6dd66
X-WR-CALDESC:It's the first Members Only Guided Bird Walk of the 2015 seaso
 n!\n\nJoin leaders Dr. Richard and Patricia Ryel as we walk the Gardens an
 d take in the sights and sounds of birds migrating through our area. In 20
 14\, we saw more than 60 different species. Here's hoping we spot even mor
 e this year!\n\nAs always\, the Members Only Guided Bird Walks are free. W
 e are limited to 15 people\, so we ask that you kindly pre-register.
X-WR-RELCALID:160bd2e29d9f958a57b2615ac1c156bf
X-WR-TIMEZONE:America/Chicago
BEGIN:VTIMEZONE
TZID:America/Chicago
BEGIN:STANDARD
TZNAME:CST
DTSTART:20141102T020000
TZOFFSETFROM:-0500
TZOFFSETTO:-0600
RDATE:20151101T020000
END:STANDARD
BEGIN:DAYLIGHT
TZNAME:CDT
DTSTART:20150308T020000
TZOFFSETFROM:-0600
TZOFFSETTO:-0500
RDATE:20160313T020000
END:DAYLIGHT
END:VTIMEZONE
BEGIN:VEVENT
UID:7a210a33-6c4a-445e-8625-b38c9a6393f0
DTSTAMP:20260423T190342Z
DESCRIPTION:It's the first Members Only Guided Bird Walk of the 2015 season
 !\n\nJoin leaders Dr. Richard and Patricia Ryel as we walk the Gardens and
  take in the sights and sounds of birds migrating through our area. In 201
 4\, we saw more than 60 different species. Here's hoping we spot even more
  this year!\n\nAs always\, the Members Only Guided Bird Walks are free. We
  are limited to 15 people\, so we ask that you kindly pre-register.
DTSTART;TZID=America/Chicago:20150328T080000
DTEND;TZID=America/Chicago:20150328T100000
LOCATION:
SUMMARY:Members Only Guided Bird Walk
END:VEVENT
END:VCALENDAR
