BEGIN:VCALENDAR
VERSION:2.0
PRODID:-//aldridgegardens.com//NONSGML kigkonsult.se iCalcreator 2.30.10//
CALSCALE:GREGORIAN
METHOD:PUBLISH
UID:5153c122-b749-44cb-9e91-d30366a6680c
X-WR-CALDESC:Aldridge Gardens Travel Club presents Tropical Costa Rica. \n
 \nCosta Rica is a peaceful little country situated in Central America and 
 is ranked one of the most popular international destinations.  As a pionee
 r in eco-tourism\, Costa Rica draws many tourists to discover its exotic w
 ildlife\, beautiful beaches\, scenic volcanic mountains and lush rainfores
 t. \n\nOnly 2.5 hours by air from Miami\, Costa Rica is a peaceful democra
 tic country with more than 25% of the country composed of national parks  
  and protected territories. In Costa Rica education is a top priority resu
 lting in over a 96% literacy rate and a health care system ranked higher t
 han that of the United States.\n\nCapture the spirit of the destination\, 
 savor delicious local cuisine and relax while taking time to explore on yo
 ur own.  \n\nDeparture Date:  November 7\, 2015\n9 Days $2599 with air fro
 m Birmingham\nOptional 4 day 3 Night Rainforest Extension to \nTortuguero 
 National Park - $449\n\nJoin us to learn about the highlights we will expe
 rience in this diverse destination on our November 7\, 2015 departure.  Ev
 eryone is invited.  Membership not required.
X-WR-RELCALID:c207363fc9e5ed9e394f2661393d7590
X-WR-TIMEZONE:America/Chicago
BEGIN:VTIMEZONE
TZID:America/Chicago
BEGIN:STANDARD
TZNAME:CST
DTSTART:20141102T020000
TZOFFSETFROM:-0500
TZOFFSETTO:-0600
RDATE:20151101T020000
END:STANDARD
BEGIN:DAYLIGHT
TZNAME:CDT
DTSTART:20150308T020000
TZOFFSETFROM:-0600
TZOFFSETTO:-0500
RDATE:20160313T020000
END:DAYLIGHT
END:VTIMEZONE
BEGIN:VEVENT
UID:14b69ab2-ff1d-4a82-bc29-2c463bb78b82
DTSTAMP:20260423T175613Z
DESCRIPTION:Aldridge Gardens Travel Club presents Tropical Costa Rica. \n\n
 Costa Rica is a peaceful little country situated in Central America and is
  ranked one of the most popular international destinations.  As a pioneer 
 in eco-tourism\, Costa Rica draws many tourists to discover its exotic wil
 dlife\, beautiful beaches\, scenic volcanic mountains and lush rainforest.
  \n\nOnly 2.5 hours by air from Miami\, Costa Rica is a peaceful democrati
 c country with more than 25% of the country composed of national parks   a
 nd protected territories. In Costa Rica education is a top priority result
 ing in over a 96% literacy rate and a health care system ranked higher tha
 n that of the United States.\n\nCapture the spirit of the destination\, sa
 vor delicious local cuisine and relax while taking time to explore on your
  own.  \n\nDeparture Date:  November 7\, 2015\n9 Days $2599 with air from 
 Birmingham\nOptional 4 day 3 Night Rainforest Extension to \nTortuguero Na
 tional Park - $449\n\nJoin us to learn about the highlights we will experi
 ence in this diverse destination on our November 7\, 2015 departure.  Ever
 yone is invited.  Membership not required.
DTSTART;TZID=America/Chicago:20150415T183000
DTEND;TZID=America/Chicago:20150415T200000
LOCATION:
SUMMARY:Aldridge Gardens Travel Club
END:VEVENT
END:VCALENDAR
