BEGIN:VCALENDAR
VERSION:2.0
PRODID:-//aldridgegardens.com//NONSGML kigkonsult.se iCalcreator 2.30.10//
CALSCALE:GREGORIAN
METHOD:PUBLISH
UID:94bc72ab-1eeb-4f5e-9946-bf7c20bd18f1
X-WR-CALDESC:Springtime Saturday mornings were made for this!\n\nYou can't 
 go wrong with fresh spring air and a little exercise while on a guided tou
 r of the Gardens. Join Dr. Richard and Patricia Ryel for a walk on our gro
 unds to catch a glimpse of the beautiful birds that are migrating through 
 the area. This monthly members-only event is free\, but we do ask that you
  kindly RSVP.
X-WR-RELCALID:10da0ee5141286b776f9e0124c7fde1d
X-WR-TIMEZONE:America/Chicago
BEGIN:VTIMEZONE
TZID:America/Chicago
BEGIN:STANDARD
TZNAME:CST
DTSTART:20141102T020000
TZOFFSETFROM:-0500
TZOFFSETTO:-0600
RDATE:20151101T020000
END:STANDARD
BEGIN:DAYLIGHT
TZNAME:CDT
DTSTART:20150308T020000
TZOFFSETFROM:-0600
TZOFFSETTO:-0500
RDATE:20160313T020000
END:DAYLIGHT
END:VTIMEZONE
BEGIN:VEVENT
UID:fc7d172d-2e8c-431b-81e5-9a72acb5ce43
DTSTAMP:20260423T172622Z
DESCRIPTION:Springtime Saturday mornings were made for this!\n\nYou can't g
 o wrong with fresh spring air and a little exercise while on a guided tour
  of the Gardens. Join Dr. Richard and Patricia Ryel for a walk on our grou
 nds to catch a glimpse of the beautiful birds that are migrating through t
 he area. This monthly members-only event is free\, but we do ask that you 
 kindly RSVP.
DTSTART;TZID=America/Chicago:20150418T080000
DTEND;TZID=America/Chicago:20150418T100000
LOCATION:
SUMMARY:Members-Only Guided Bird Walk
END:VEVENT
END:VCALENDAR
