BEGIN:VCALENDAR
VERSION:2.0
PRODID:-//aldridgegardens.com//NONSGML kigkonsult.se iCalcreator 2.30.10//
CALSCALE:GREGORIAN
METHOD:PUBLISH
UID:3b01980c-4850-4ccb-b965-d50f24f33d77
X-WR-CALDESC:Plein air is a French term that translates to 'open air'\, and
  means painting or drawing outside\, in the open air. \n\nThe subject matt
 er is created on site\, from life\, through direct observation. The goal i
 s to capture the light and colors particular to that time of day and local
 e\, as seen by the human eye. The artwork is not only the result of what t
 he artist sees\, but by the sounds\, smells and activities that infuse the
  location.\n\nLast May\, 10 Alabama plein air artists participated in a 'p
 aint-out' at Aldridge Gardens. They captured the beauty they saw around th
 em on our acreage. \n\nThis spring\, those works will be displayed in the 
 Eddie and Kay Aldridge Arts & Historical Collections Museum.  Join us to b
 e among the first to see the finished pieces in 'Aldridge Gardens en Plein
  Air\,' and have the opportunity to speak with the artists. \n\nThis Meet 
 the Artist Reception will take place the same evening as the judging for t
 he 2015 Juried Plein Air Art Show. The exhibit will run through June 8 and
  will feature three pieces from each of the participating artists\, includ
 ing:\n\nGina Brown\nAmy Collins\nBarbara Davis\nSharon Gates\nDiane Newsom
 e\nAmy R. Peterson\nRobin Roberts\nElaine Shields\nJoan Weaver\nKaren Weir
 \n\nThe reception is free to the public. \n<i>Gene and Pam Smith are the p
 resenting sponsors of 'Aldridge Gardens en Plein Air.'</i>\n
X-WR-RELCALID:85c2682480cded17da223421a6958366
X-WR-TIMEZONE:America/Chicago
BEGIN:VTIMEZONE
TZID:America/Chicago
BEGIN:STANDARD
TZNAME:CST
DTSTART:20141102T020000
TZOFFSETFROM:-0500
TZOFFSETTO:-0600
RDATE:20151101T020000
END:STANDARD
BEGIN:DAYLIGHT
TZNAME:CDT
DTSTART:20150308T020000
TZOFFSETFROM:-0600
TZOFFSETTO:-0500
RDATE:20160313T020000
END:DAYLIGHT
END:VTIMEZONE
BEGIN:VEVENT
UID:19cced9e-fedc-43a5-9d7d-552c2a229f18
DTSTAMP:20260423T173936Z
DESCRIPTION:Plein air is a French term that translates to 'open air'\, and 
 means painting or drawing outside\, in the open air. \n\nThe subject matte
 r is created on site\, from life\, through direct observation. The goal is
  to capture the light and colors particular to that time of day and locale
 \, as seen by the human eye. The artwork is not only the result of what th
 e artist sees\, but by the sounds\, smells and activities that infuse the 
 location.\n\nLast May\, 10 Alabama plein air artists participated in a 'pa
 int-out' at Aldridge Gardens. They captured the beauty they saw around the
 m on our acreage. \n\nThis spring\, those works will be displayed in the E
 ddie and Kay Aldridge Arts & Historical Collections Museum.  Join us to be
  among the first to see the finished pieces in 'Aldridge Gardens en Plein 
 Air\,' and have the opportunity to speak with the artists. \n\nThis Meet t
 he Artist Reception will take place the same evening as the judging for th
 e 2015 Juried Plein Air Art Show. The exhibit will run through June 8 and 
 will feature three pieces from each of the participating artists\, includi
 ng:\n\nGina Brown\nAmy Collins\nBarbara Davis\nSharon Gates\nDiane Newsome
 \nAmy R. Peterson\nRobin Roberts\nElaine Shields\nJoan Weaver\nKaren Weir
 \n\nThe reception is free to the public. \n<i>Gene and Pam Smith are the p
 resenting sponsors of 'Aldridge Gardens en Plein Air.'</i>\n
DTSTART;TZID=America/Chicago:20150421T180000
DTEND;TZID=America/Chicago:20150421T200000
LOCATION:
SUMMARY:Meet the Artists Reception: Alabama Plein Air Artists
END:VEVENT
END:VCALENDAR
