BEGIN:VCALENDAR
VERSION:2.0
PRODID:-//aldridgegardens.com//NONSGML kigkonsult.se iCalcreator 2.30.10//
CALSCALE:GREGORIAN
METHOD:PUBLISH
UID:a40396b5-6ee5-4c79-ba9b-eda718d3c582
X-WR-CALDESC:Propagator Level members will enjoy their monthly wine recepti
 on while mixing and mingling with Alabama Plein Air Artists. \n\nThe APAA 
 consists of artists from all over the state who gather once a month to pai
 nt the varied landscapes of Alabama. They have painted the mountains of no
 rth Alabama\, the waterways and wetlands of central Alabama\, the Gulf\, n
 umerous gardens\, and historic landmarks and natural wonders across the st
 ate. APAA members work in oil\, acrylic\, watercolor\, pastels and more.  
   \n\nAt this month's reception\, 10 members of the APAA will give Propaga
 tor Level members a sneak peek at their latest works\, all displayed as pa
 rt of the 2015 Alabama Plein Air Juried Exhibit. 'Aldridge Gardens en Plei
 n Air' includes three pieces each from:\n\nGina Brown\nAmy Collins\nBarbar
 a Davis\nSharon Gates\nDiane Newsome\nAmy R. Peterson\nRobin Roberts\nElai
 ne Shields\nJoan Weaver\nKaren Weir\n\n<i>Gene and Pam Smith are the prese
 nting sponsors of 'Aldridge Gardens en Plein Air.'</i>\n
X-WR-RELCALID:63fb8ff5eeefcc1425b84eb414c3101d
X-WR-TIMEZONE:America/Chicago
BEGIN:VTIMEZONE
TZID:America/Chicago
BEGIN:STANDARD
TZNAME:CST
DTSTART:20141102T020000
TZOFFSETFROM:-0500
TZOFFSETTO:-0600
RDATE:20151101T020000
END:STANDARD
BEGIN:DAYLIGHT
TZNAME:CDT
DTSTART:20150308T020000
TZOFFSETFROM:-0600
TZOFFSETTO:-0500
RDATE:20160313T020000
END:DAYLIGHT
END:VTIMEZONE
BEGIN:VEVENT
UID:6ec3f0ad-a408-4ebe-97ce-94d542e2d66f
DTSTAMP:20260423T172635Z
DESCRIPTION:Propagator Level members will enjoy their monthly wine receptio
 n while mixing and mingling with Alabama Plein Air Artists. \n\nThe APAA c
 onsists of artists from all over the state who gather once a month to pain
 t the varied landscapes of Alabama. They have painted the mountains of nor
 th Alabama\, the waterways and wetlands of central Alabama\, the Gulf\, nu
 merous gardens\, and historic landmarks and natural wonders across the sta
 te. APAA members work in oil\, acrylic\, watercolor\, pastels and more.   
  \n\nAt this month's reception\, 10 members of the APAA will give Propagat
 or Level members a sneak peek at their latest works\, all displayed as par
 t of the 2015 Alabama Plein Air Juried Exhibit. 'Aldridge Gardens en Plein
  Air' includes three pieces each from:\n\nGina Brown\nAmy Collins\nBarbara
  Davis\nSharon Gates\nDiane Newsome\nAmy R. Peterson\nRobin Roberts\nElain
 e Shields\nJoan Weaver\nKaren Weir\n\n<i>Gene and Pam Smith are the presen
 ting sponsors of 'Aldridge Gardens en Plein Air.'</i>\n
DTSTART;TZID=America/Chicago:20150421T170000
DTEND;TZID=America/Chicago:20150421T180000
LOCATION:
SUMMARY:Propagator Wine Reception: Meet the Artists
END:VEVENT
END:VCALENDAR
