BEGIN:VCALENDAR
VERSION:2.0
PRODID:-//aldridgegardens.com//NONSGML kigkonsult.se iCalcreator 2.30.10//
CALSCALE:GREGORIAN
METHOD:PUBLISH
UID:69592929-bf6a-4024-8414-2bff6abfc620
X-WR-CALDESC:$20 Members/$27 Non-members\n$35 Member adult with one child 7
  or older \n$47 Non-member adult with one child 7 or older\n\nThe creative
  and charming Jennifer Wallace brings her unique design talent to Aldridge
  Gardens.  \n\nUsing materials from nature\, you will learn to make charmi
 ng miniature furniture\, unlike any you have ever seen before.  Jennifer w
 ill teach participants to construct a tiny chair perfect for a favorite fa
 iry or gnome.  Once the basic principles are learned\, attendees will be a
 ble to build an entire furniture collection or anything else you can imagi
 ne!\n\nBring twigs - straight\, curved\, and crooked - with a diameter sma
 ller than a pencil. Bring buttons\, lace\, pearls\, ultra-fine glitter\, e
 tc. and clippers to cut twigs. Attendees are also encouraged to bring a gl
 ue gun if possible\, or borrow one from us. \n\nPrepare for fairies and gn
 omes to inhabit your garden!
X-WR-RELCALID:02cf45dd1fcbd3db8aac9c5e5eaf010b
X-WR-TIMEZONE:America/Chicago
BEGIN:VTIMEZONE
TZID:America/Chicago
BEGIN:STANDARD
TZNAME:CST
DTSTART:20141102T020000
TZOFFSETFROM:-0500
TZOFFSETTO:-0600
RDATE:20151101T020000
END:STANDARD
BEGIN:DAYLIGHT
TZNAME:CDT
DTSTART:20150308T020000
TZOFFSETFROM:-0600
TZOFFSETTO:-0500
RDATE:20160313T020000
END:DAYLIGHT
END:VTIMEZONE
BEGIN:VEVENT
UID:e1098134-278b-406e-94df-c8b4ed94ad38
DTSTAMP:20260423T173132Z
DESCRIPTION:$20 Members/$27 Non-members\n$35 Member adult with one child 7 
 or older \n$47 Non-member adult with one child 7 or older\n\nThe creative 
 and charming Jennifer Wallace brings her unique design talent to Aldridge 
 Gardens.  \n\nUsing materials from nature\, you will learn to make charmin
 g miniature furniture\, unlike any you have ever seen before.  Jennifer wi
 ll teach participants to construct a tiny chair perfect for a favorite fai
 ry or gnome.  Once the basic principles are learned\, attendees will be ab
 le to build an entire furniture collection or anything else you can imagin
 e!\n\nBring twigs - straight\, curved\, and crooked - with a diameter smal
 ler than a pencil. Bring buttons\, lace\, pearls\, ultra-fine glitter\, et
 c. and clippers to cut twigs. Attendees are also encouraged to bring a glu
 e gun if possible\, or borrow one from us. \n\nPrepare for fairies and gno
 mes to inhabit your garden!
DTSTART;TZID=America/Chicago:20150425T090000
DTEND;TZID=America/Chicago:20150425T110000
LOCATION:
SUMMARY:Fairy Furniture and Gnome Knick Knacks
END:VEVENT
END:VCALENDAR
