BEGIN:VCALENDAR
VERSION:2.0
PRODID:-//aldridgegardens.com//NONSGML kigkonsult.se iCalcreator 2.30.10//
CALSCALE:GREGORIAN
METHOD:PUBLISH
UID:5ec6e937-b97d-4c32-879a-2daeda798a79
X-WR-CALDESC:Members only - join us for the preview of our annual Spring Pl
 ant Sale.\n\nFind the perfect plants for your container or garden spot! Ch
 oose from hydrangeas\, perennials\, roses\, companion plants\, native and 
 butterfly plants and so much more. \n\nVolunteers and Master Gardeners wil
 l be on hand to help with selections and to give advice about placement\, 
 care and maintenance.. \n\n
X-WR-RELCALID:478b5fd44d4a8076957dd4cde0c13935
X-WR-TIMEZONE:America/Chicago
BEGIN:VTIMEZONE
TZID:America/Chicago
BEGIN:STANDARD
TZNAME:CST
DTSTART:20141102T020000
TZOFFSETFROM:-0500
TZOFFSETTO:-0600
RDATE:20151101T020000
END:STANDARD
BEGIN:DAYLIGHT
TZNAME:CDT
DTSTART:20150308T020000
TZOFFSETFROM:-0600
TZOFFSETTO:-0500
RDATE:20160313T020000
END:DAYLIGHT
END:VTIMEZONE
BEGIN:VEVENT
UID:59e2b69a-2b14-4dcd-b277-aafc537d00ac
DTSTAMP:20260423T160007Z
DESCRIPTION:Members only - join us for the preview of our annual Spring Pla
 nt Sale.\n\nFind the perfect plants for your container or garden spot! Cho
 ose from hydrangeas\, perennials\, roses\, companion plants\, native and b
 utterfly plants and so much more. \n\nVolunteers and Master Gardeners will
  be on hand to help with selections and to give advice about placement\, c
 are and maintenance.. \n\n
DTSTART;TZID=America/Chicago:20150507T160000
DTEND;TZID=America/Chicago:20150507T180000
LOCATION:
SUMMARY:Members Only Spring Plant Sale Preview
END:VEVENT
END:VCALENDAR
