BEGIN:VCALENDAR
VERSION:2.0
PRODID:-//aldridgegardens.com//NONSGML kigkonsult.se iCalcreator 2.30.10//
CALSCALE:GREGORIAN
METHOD:PUBLISH
UID:84cedd93-f492-4f20-abba-0466310c63aa
X-WR-CALDESC:
X-WR-RELCALID:7e31304f6b5c837243d4b2c6c5ccfab6
X-WR-TIMEZONE:America/Chicago
BEGIN:VTIMEZONE
TZID:America/Chicago
BEGIN:STANDARD
TZNAME:CST
DTSTART:20141102T020000
TZOFFSETFROM:-0500
TZOFFSETTO:-0600
RDATE:20151101T020000
RDATE:20161106T020000
END:STANDARD
BEGIN:DAYLIGHT
TZNAME:CDT
DTSTART:20150308T020000
TZOFFSETFROM:-0600
TZOFFSETTO:-0500
RDATE:20160313T020000
END:DAYLIGHT
END:VTIMEZONE
BEGIN:VEVENT
UID:c3c89e35-e416-4afb-b1bc-afb2abb3ab2d
DTSTAMP:20260423T155840Z
DESCRIPTION:
DTSTART;TZID=America/Chicago:20150508T090000
DTEND;TZID=America/Chicago:20150508T170000
LOCATION:
SUMMARY:Annual Spring Plant Sale
END:VEVENT
END:VCALENDAR
