BEGIN:VCALENDAR
VERSION:2.0
PRODID:-//aldridgegardens.com//NONSGML kigkonsult.se iCalcreator 2.30.10//
CALSCALE:GREGORIAN
METHOD:PUBLISH
UID:138e2fc4-de5d-4d7d-8edc-03ee195e460a
X-WR-CALDESC:Priscilla Hancock Cooper\nInterim president and CEO\, Birmingh
 am Civil Rights Institute\n\n'Priscilla Hancock Cooper may have recently s
 tepped into the role of Interim president and CEO at the Birmingham Civil 
 Rights Institute\, but her involvement with the institution dates back nea
 rly 25 years. Cooper began working for the organization as a copywriter an
 d education consultant\, and over the years she's been able to use her pas
 sion for the written word and sharing African-American history through lit
 erature to contribute to the organization and others in the community. In 
 addition to developing programs for BCRI\, Cooper has taught creative writ
 ing to incarcerated girls and has used Alabama State Council on the Arts f
 ellowships to create stage performances.' Read more about Priscilla Hancoc
 k Cooper <a href='http://www.al.com/bhammag/index.ssf/2014/10/meet_the_wom
 en_who_are_making.html' target=blank>in this article from Birmingham Magaz
 ine</a> on al.com: \n\n<i>Special thanks to Ed and Barbara Randle for spon
 soring this month's Propagators Reception.</i>
X-WR-RELCALID:f23addc1c3183750311d2b71863cae7f
X-WR-TIMEZONE:America/Chicago
BEGIN:VTIMEZONE
TZID:America/Chicago
BEGIN:STANDARD
TZNAME:CST
DTSTART:20141102T020000
TZOFFSETFROM:-0500
TZOFFSETTO:-0600
RDATE:20151101T020000
RDATE:20161106T020000
END:STANDARD
BEGIN:DAYLIGHT
TZNAME:CDT
DTSTART:20150308T020000
TZOFFSETFROM:-0600
TZOFFSETTO:-0500
RDATE:20160313T020000
END:DAYLIGHT
END:VTIMEZONE
BEGIN:VEVENT
UID:31297915-c4c8-42f0-a279-e3c419b35ea8
DTSTAMP:20260423T155830Z
DESCRIPTION:Priscilla Hancock Cooper\nInterim president and CEO\, Birmingha
 m Civil Rights Institute\n\n'Priscilla Hancock Cooper may have recently st
 epped into the role of Interim president and CEO at the Birmingham Civil R
 ights Institute\, but her involvement with the institution dates back near
 ly 25 years. Cooper began working for the organization as a copywriter and
  education consultant\, and over the years she's been able to use her pass
 ion for the written word and sharing African-American history through lite
 rature to contribute to the organization and others in the community. In a
 ddition to developing programs for BCRI\, Cooper has taught creative writi
 ng to incarcerated girls and has used Alabama State Council on the Arts fe
 llowships to create stage performances.' Read more about Priscilla Hancock
  Cooper <a href='http://www.al.com/bhammag/index.ssf/2014/10/meet_the_wome
 n_who_are_making.html' target=blank>in this article from Birmingham Magazi
 ne</a> on al.com: \n\n<i>Special thanks to Ed and Barbara Randle for spons
 oring this month's Propagators Reception.</i>
DTSTART;TZID=America/Chicago:20150514T170000
DTEND;TZID=America/Chicago:20150514T180000
LOCATION:Eddie and Kay Aldridge Art & Historical Collections Museum
SUMMARY:Propagator Reception: Meet Priscilla Hancock Cooper
END:VEVENT
END:VCALENDAR
