BEGIN:VCALENDAR
VERSION:2.0
PRODID:-//aldridgegardens.com//NONSGML kigkonsult.se iCalcreator 2.30.10//
CALSCALE:GREGORIAN
METHOD:PUBLISH
UID:cadc10b3-e99b-47bb-b270-c8ef0af2b9d3
X-WR-CALDESC:Join leaders Dr. Richard and Patricia Ryel as we walk the Gard
 ens and take in the sights and sounds of birds migrating through our area.
  In 2014\, we saw more than 60 different species. How many will you spot t
 his year?\n\nAs always\, the Members Only Guided Bird Walks are free. We a
 re limited to 15 people\, so we ask that you kindly pre-register.
X-WR-RELCALID:865a17b6deb6c29c1cae1df7b9f64dce
X-WR-TIMEZONE:America/Chicago
BEGIN:VTIMEZONE
TZID:America/Chicago
BEGIN:STANDARD
TZNAME:CST
DTSTART:20141102T020000
TZOFFSETFROM:-0500
TZOFFSETTO:-0600
RDATE:20151101T020000
RDATE:20161106T020000
END:STANDARD
BEGIN:DAYLIGHT
TZNAME:CDT
DTSTART:20150308T020000
TZOFFSETFROM:-0600
TZOFFSETTO:-0500
RDATE:20160313T020000
END:DAYLIGHT
END:VTIMEZONE
BEGIN:VEVENT
UID:1aa24f44-eae7-431a-9aff-90629ce8dd57
DTSTAMP:20260423T155725Z
DESCRIPTION:Join leaders Dr. Richard and Patricia Ryel as we walk the Garde
 ns and take in the sights and sounds of birds migrating through our area. 
 In 2014\, we saw more than 60 different species. How many will you spot th
 is year?\n\nAs always\, the Members Only Guided Bird Walks are free. We ar
 e limited to 15 people\, so we ask that you kindly pre-register.
DTSTART;TZID=America/Chicago:20150516T080000
DTEND;TZID=America/Chicago:20150516T100000
LOCATION:
SUMMARY:Members Only Guided Bird Walk
END:VEVENT
END:VCALENDAR
