BEGIN:VCALENDAR
VERSION:2.0
PRODID:-//aldridgegardens.com//NONSGML kigkonsult.se iCalcreator 2.30.10//
CALSCALE:GREGORIAN
METHOD:PUBLISH
UID:10db495c-d648-49e1-bcc4-1d276dbd2f06
X-WR-CALDESC:Join us as we celebrate our new exhibit of the largest collect
 ion of Frank Fleming bronze  sculptures available for public viewing.\n\nW
 ine and light hors d’oeuvres starting at 6:00.\nFrank Fleming will discuss
  the collection at 7:00.\n<i>The Frank Fleming bronze collection and new d
 isplay were donated by longtime Hoover  resident Ken Jackson.</i>\n\nReser
 vations are limited. $100 per person. All proceeds benefit Aldridge Garden
 s.\n
X-WR-RELCALID:2525bf06eaeeb0832807258ccb0edd3a
X-WR-TIMEZONE:America/Chicago
BEGIN:VTIMEZONE
TZID:America/Chicago
BEGIN:STANDARD
TZNAME:CST
DTSTART:20141102T020000
TZOFFSETFROM:-0500
TZOFFSETTO:-0600
RDATE:20151101T020000
RDATE:20161106T020000
END:STANDARD
BEGIN:DAYLIGHT
TZNAME:CDT
DTSTART:20150308T020000
TZOFFSETFROM:-0600
TZOFFSETTO:-0500
RDATE:20160313T020000
END:DAYLIGHT
END:VTIMEZONE
BEGIN:VEVENT
UID:c9c08a27-a898-4c15-b0b1-f067f6c01a0b
DTSTAMP:20260423T160002Z
DESCRIPTION:Join us as we celebrate our new exhibit of the largest collecti
 on of Frank Fleming bronze  sculptures available for public viewing.\n\nWi
 ne and light hors d’oeuvres starting at 6:00.\nFrank Fleming will discuss 
 the collection at 7:00.\n<i>The Frank Fleming bronze collection and new di
 splay were donated by longtime Hoover  resident Ken Jackson.</i>\n\nReserv
 ations are limited. $100 per person. All proceeds benefit Aldridge Gardens
 .\n
DTSTART;TZID=America/Chicago:20150528T180000
DTEND;TZID=America/Chicago:20150528T200000
LOCATION:Eddie & Kay Aldridge Historical Collections Museum
SUMMARY:Frank Fleming: An Evening with the Artist
END:VEVENT
END:VCALENDAR
