BEGIN:VCALENDAR
VERSION:2.0
PRODID:-//aldridgegardens.com//NONSGML kigkonsult.se iCalcreator 2.30.10//
CALSCALE:GREGORIAN
METHOD:PUBLISH
UID:5e826467-0506-4a14-9cb6-4c8f9af9e062
X-WR-CALDESC:Instructors: David Doggett and Willie Edmiston\, Hydrangea Pro
 pagators\n\n$16 Aldridge Gardens Members / $21 Non-members\n\nClass size i
 s limited.\n\nPlease pre-register using the link below.\n \nHydrangeas are
  a major component of many Southern gardens\, and this hands-on workshop w
 ill teach you an easy way to propagate hydrangeas for yourself. Class fee 
 includes pot\, soil\, 3 hydrangea cuttings and hand-outs. Class members ma
 y root up to three fresh hydrangea cuttings to take home. Bring a clear\, 
 2 liter soda bottle\, your pruners and scissors for trimming leaves. We'll
  also learn how to propagate oakleaf hydrangeas from seed and layering.  T
 hen get ready to enjoy the hydrangeas you'll propagate throughout your own
  garden!\n\n
X-WR-RELCALID:64823c4ed2f757379a5ebb8d61068493
X-WR-TIMEZONE:America/Chicago
BEGIN:VTIMEZONE
TZID:America/Chicago
BEGIN:STANDARD
TZNAME:CST
DTSTART:20141102T020000
TZOFFSETFROM:-0500
TZOFFSETTO:-0600
RDATE:20151101T020000
RDATE:20161106T020000
END:STANDARD
BEGIN:DAYLIGHT
TZNAME:CDT
DTSTART:20150308T020000
TZOFFSETFROM:-0600
TZOFFSETTO:-0500
RDATE:20160313T020000
END:DAYLIGHT
END:VTIMEZONE
BEGIN:VEVENT
UID:a8850046-43f6-420f-906f-3534db774610
DTSTAMP:20260423T155505Z
DESCRIPTION:Instructors: David Doggett and Willie Edmiston\, Hydrangea Prop
 agators\n\n$16 Aldridge Gardens Members / $21 Non-members\n\nClass size is
  limited.\n\nPlease pre-register using the link below.\n \nHydrangeas are 
 a major component of many Southern gardens\, and this hands-on workshop wi
 ll teach you an easy way to propagate hydrangeas for yourself. Class fee i
 ncludes pot\, soil\, 3 hydrangea cuttings and hand-outs. Class members may
  root up to three fresh hydrangea cuttings to take home. Bring a clear\, 2
  liter soda bottle\, your pruners and scissors for trimming leaves. We'll 
 also learn how to propagate oakleaf hydrangeas from seed and layering.  Th
 en get ready to enjoy the hydrangeas you'll propagate throughout your own 
 garden!\n\n
DTSTART;TZID=America/Chicago:20150530T093000
DTEND;TZID=America/Chicago:20150530T113000
LOCATION:Aldridge Gardens
SUMMARY:Hydrangea Propagation Workshop
END:VEVENT
END:VCALENDAR
