BEGIN:VCALENDAR
VERSION:2.0
PRODID:-//aldridgegardens.com//NONSGML kigkonsult.se iCalcreator 2.30.10//
CALSCALE:GREGORIAN
METHOD:PUBLISH
UID:206e225a-b97d-4104-a7b2-bac97dd7d906
X-WR-CALDESC:June 1 - 5\nEntering Grades 2 – 4\n\nIt’s time for summer!  Gi
 rls\, are you ready for some fun?  Bring your doll to camp at Aldridge Gar
 dens!  We’ll explore the magic of the Gardens\, make all kinds of accessor
 ies and crafts for you and your dolls\, and even have a tea party!  Join u
 s as we make new friends and great memories!\n\nInstructor:  Linda Cronica
 n\,  B.A. Elementary Education\n
X-WR-RELCALID:ac2c9f30243157a5beff603e97f1181f
X-WR-TIMEZONE:America/Chicago
BEGIN:VTIMEZONE
TZID:America/Chicago
BEGIN:STANDARD
TZNAME:CST
DTSTART:20141102T020000
TZOFFSETFROM:-0500
TZOFFSETTO:-0600
RDATE:20151101T020000
RDATE:20161106T020000
END:STANDARD
BEGIN:DAYLIGHT
TZNAME:CDT
DTSTART:20150308T020000
TZOFFSETFROM:-0600
TZOFFSETTO:-0500
RDATE:20160313T020000
END:DAYLIGHT
END:VTIMEZONE
BEGIN:VEVENT
UID:ef7ea783-82c3-47e8-b5d6-9b9a810cda5f
DTSTAMP:20260423T144431Z
DESCRIPTION:June 1 - 5\nEntering Grades 2 – 4\n\nIt’s time for summer!  Gir
 ls\, are you ready for some fun?  Bring your doll to camp at Aldridge Gard
 ens!  We’ll explore the magic of the Gardens\, make all kinds of accessori
 es and crafts for you and your dolls\, and even have a tea party!  Join us
  as we make new friends and great memories!\n\nInstructor:  Linda Cronican
 \,  B.A. Elementary Education\n
DTSTART;TZID=America/Chicago:20150601T090000
DTEND;TZID=America/Chicago:20150601T120000
LOCATION:
SUMMARY:Summer Camp: American Girls Grades 2-4 - SOLD OUT
END:VEVENT
END:VCALENDAR
