BEGIN:VCALENDAR
VERSION:2.0
PRODID:-//aldridgegardens.com//NONSGML kigkonsult.se iCalcreator 2.30.10//
CALSCALE:GREGORIAN
METHOD:PUBLISH
UID:1d657b0a-668e-415b-97ba-64e0ffeab76f
X-WR-CALDESC:June 1 - 5\nEntering Grades 2-4\n\nCalling all kids who like b
 uilding and experimenting!  Join us for a fun week of chemistry and constr
 uction as we learn about safe chemical reactions\, states of matter\, and 
 pH balance.  We will build amazing structures from all kinds of materials 
 including tubes\, wires\, pipes\, cans\, sticks\, magna tiles and more.  T
 he sky’s the limit!\n\nInstructor:  Julia Aho\, M.A. Early Childhood and E
 lementary Education\n
X-WR-RELCALID:979535a4e667dd3ab29f510bb0fbc745
X-WR-TIMEZONE:America/Chicago
BEGIN:VTIMEZONE
TZID:America/Chicago
BEGIN:STANDARD
TZNAME:CST
DTSTART:20141102T020000
TZOFFSETFROM:-0500
TZOFFSETTO:-0600
RDATE:20151101T020000
RDATE:20161106T020000
END:STANDARD
BEGIN:DAYLIGHT
TZNAME:CDT
DTSTART:20150308T020000
TZOFFSETFROM:-0600
TZOFFSETTO:-0500
RDATE:20160313T020000
END:DAYLIGHT
END:VTIMEZONE
BEGIN:VEVENT
UID:2272c3c3-53f0-4a19-9c42-32c120c2616e
DTSTAMP:20260423T144352Z
DESCRIPTION:June 1 - 5\nEntering Grades 2-4\n\nCalling all kids who like bu
 ilding and experimenting!  Join us for a fun week of chemistry and constru
 ction as we learn about safe chemical reactions\, states of matter\, and p
 H balance.  We will build amazing structures from all kinds of materials i
 ncluding tubes\, wires\, pipes\, cans\, sticks\, magna tiles and more.  Th
 e sky’s the limit!\n\nInstructor:  Julia Aho\, M.A. Early Childhood and El
 ementary Education\n
DTSTART;TZID=America/Chicago:20150601T090000
DTEND;TZID=America/Chicago:20150601T120000
LOCATION:
SUMMARY:Summer Camp: Chemistry and Construction - Kids Grades 2-4 - SOLD OU
 T
END:VEVENT
END:VCALENDAR
