BEGIN:VCALENDAR
VERSION:2.0
PRODID:-//aldridgegardens.com//NONSGML kigkonsult.se iCalcreator 2.30.10//
CALSCALE:GREGORIAN
METHOD:PUBLISH
UID:c1f05d62-c906-408c-9f84-5c33c1cb0d90
X-WR-CALDESC:<b>Summer Camps for the week of June 1 - 5</b>\n\nAmerican Gir
 ls in Aldridge Gardens Entering Grades 2 – 4\nChemistry and Construction K
 ids Entering Grades 2 – 4\nPainting\, Pounding\, Picking\, Pressing Enteri
 ng Grades K - 2\n\n
X-WR-RELCALID:b2a7cfca91238fb37537471e7c61d569
X-WR-TIMEZONE:America/Chicago
BEGIN:VTIMEZONE
TZID:America/Chicago
BEGIN:STANDARD
TZNAME:CST
DTSTART:20141102T020000
TZOFFSETFROM:-0500
TZOFFSETTO:-0600
RDATE:20151101T020000
RDATE:20161106T020000
END:STANDARD
BEGIN:DAYLIGHT
TZNAME:CDT
DTSTART:20150308T020000
TZOFFSETFROM:-0600
TZOFFSETTO:-0500
RDATE:20160313T020000
END:DAYLIGHT
END:VTIMEZONE
BEGIN:VEVENT
UID:5972f5dc-74f6-486a-8921-e3b346eb0f62
DTSTAMP:20260423T144000Z
DESCRIPTION:<b>Summer Camps for the week of June 1 - 5</b>\n\nAmerican Girl
 s in Aldridge Gardens Entering Grades 2 – 4\nChemistry and Construction Ki
 ds Entering Grades 2 – 4\nPainting\, Pounding\, Picking\, Pressing Enterin
 g Grades K - 2\n\n
DTSTART;TZID=America/Chicago:20150602T090000
DTEND;TZID=America/Chicago:20150602T120000
LOCATION:
SUMMARY:Summer Camps
END:VEVENT
END:VCALENDAR
