BEGIN:VCALENDAR
VERSION:2.0
PRODID:-//aldridgegardens.com//NONSGML kigkonsult.se iCalcreator 2.30.10//
CALSCALE:GREGORIAN
METHOD:PUBLISH
UID:048c7b4b-4bfc-488e-81f5-cebade6b2175
X-WR-CALDESC:<b>Summer Camps for the week of June 1 - 5</b>\n\nAmerican Gir
 ls in Aldridge Gardens Entering Grades 2 – 4\nChemistry and Construction K
 ids Entering Grades 2 – 4\nPainting\, Pounding\, Picking\, Pressing Enteri
 ng Grades K - 2
X-WR-RELCALID:e417ed9503e3b139755e40ea8b3a694f
X-WR-TIMEZONE:America/Chicago
BEGIN:VTIMEZONE
TZID:America/Chicago
BEGIN:STANDARD
TZNAME:CST
DTSTART:20141102T020000
TZOFFSETFROM:-0500
TZOFFSETTO:-0600
RDATE:20151101T020000
RDATE:20161106T020000
END:STANDARD
BEGIN:DAYLIGHT
TZNAME:CDT
DTSTART:20150308T020000
TZOFFSETFROM:-0600
TZOFFSETTO:-0500
RDATE:20160313T020000
END:DAYLIGHT
END:VTIMEZONE
BEGIN:VEVENT
UID:05c72051-ad94-43fd-b060-55af8ca2d114
DTSTAMP:20260423T144126Z
DESCRIPTION:<b>Summer Camps for the week of June 1 - 5</b>\n\nAmerican Girl
 s in Aldridge Gardens Entering Grades 2 – 4\nChemistry and Construction Ki
 ds Entering Grades 2 – 4\nPainting\, Pounding\, Picking\, Pressing Enterin
 g Grades K - 2
DTSTART;TZID=America/Chicago:20150604T090000
DTEND;TZID=America/Chicago:20150604T120000
LOCATION:
SUMMARY:Summer Camps
END:VEVENT
END:VCALENDAR
