BEGIN:VCALENDAR
VERSION:2.0
PRODID:-//aldridgegardens.com//NONSGML kigkonsult.se iCalcreator 2.30.10//
CALSCALE:GREGORIAN
METHOD:PUBLISH
UID:83179a95-3c12-4d00-b41a-8fe86d81ed1c
X-WR-CALDESC:
X-WR-RELCALID:f203e089ba2624597883385d9633b832
X-WR-TIMEZONE:America/Chicago
BEGIN:VTIMEZONE
TZID:America/Chicago
BEGIN:STANDARD
TZNAME:CST
DTSTART:20141102T020000
TZOFFSETFROM:-0500
TZOFFSETTO:-0600
RDATE:20151101T020000
RDATE:20161106T020000
END:STANDARD
BEGIN:DAYLIGHT
TZNAME:CDT
DTSTART:20150308T020000
TZOFFSETFROM:-0600
TZOFFSETTO:-0500
RDATE:20160313T020000
END:DAYLIGHT
END:VTIMEZONE
BEGIN:VEVENT
UID:7f730a1b-ba39-4aab-9657-62987335c553
DTSTAMP:20260423T143933Z
DESCRIPTION:
DTSTART;TZID=America/Chicago:20150607T000000
DTEND;TZID=America/Chicago:20150607T235900
LOCATION:
SUMMARY:Hydrangeas Under the Stars RAIN DATE
END:VEVENT
END:VCALENDAR
