BEGIN:VCALENDAR
VERSION:2.0
PRODID:-//aldridgegardens.com//NONSGML kigkonsult.se iCalcreator 2.30.10//
CALSCALE:GREGORIAN
METHOD:PUBLISH
UID:721cf630-f204-4706-bb03-79ff58bea9e4
X-WR-CALDESC:June 8 - 12\nEntering Grades 2 – 4\n\nIt’s time for summer!  G
 irls\, are you ready for some fun?  Bring your doll to camp at Aldridge Ga
 rdens!  We’ll explore the magic of the Gardens\, make all kinds of accesso
 ries and crafts for you and your dolls\, and even have a tea party!  Join 
 us as we make new friends and great memories!\n\nInstructor:  Linda Cronic
 an\,  B.A. Elementary Education\n
X-WR-RELCALID:2cd4433a8265ad6c62d476b921718fbc
X-WR-TIMEZONE:America/Chicago
BEGIN:VTIMEZONE
TZID:America/Chicago
BEGIN:STANDARD
TZNAME:CST
DTSTART:20141102T020000
TZOFFSETFROM:-0500
TZOFFSETTO:-0600
RDATE:20151101T020000
RDATE:20161106T020000
END:STANDARD
BEGIN:DAYLIGHT
TZNAME:CDT
DTSTART:20150308T020000
TZOFFSETFROM:-0600
TZOFFSETTO:-0500
RDATE:20160313T020000
END:DAYLIGHT
END:VTIMEZONE
BEGIN:VEVENT
UID:5789a7c0-670d-4e74-82a4-ab3a08c5c2e3
DTSTAMP:20260423T144228Z
DESCRIPTION:June 8 - 12\nEntering Grades 2 – 4\n\nIt’s time for summer!  Gi
 rls\, are you ready for some fun?  Bring your doll to camp at Aldridge Gar
 dens!  We’ll explore the magic of the Gardens\, make all kinds of accessor
 ies and crafts for you and your dolls\, and even have a tea party!  Join u
 s as we make new friends and great memories!\n\nInstructor:  Linda Cronica
 n\,  B.A. Elementary Education\n
DTSTART;TZID=America/Chicago:20150608T090000
DTEND;TZID=America/Chicago:20150608T120000
LOCATION:
SUMMARY:Summer Camp: American Girls Grades 2-4
END:VEVENT
END:VCALENDAR
