BEGIN:VCALENDAR
VERSION:2.0
PRODID:-//aldridgegardens.com//NONSGML kigkonsult.se iCalcreator 2.30.10//
CALSCALE:GREGORIAN
METHOD:PUBLISH
UID:6764ba3b-4fa4-4d69-bd34-6f0dc3f03cb5
X-WR-CALDESC:June 8 - 12\nEntering Grades K-2\n\nIt’s time for summer!  Gir
 ls\, are you ready for some fun?  Bring your doll to camp at Aldridge Gard
 ens!  We’ll explore the magic of the Gardens\, make all kinds of accessori
 es and crafts for you and your dolls\, and even have a tea party!  Join us
  as we make new friends and great memories!\n\nInstructor:  Reauchean Barn
 es\, B.S. Early Childhood and Elementary Education\n
X-WR-RELCALID:5b73686856d343924ecd56fc663575ee
X-WR-TIMEZONE:America/Chicago
BEGIN:VTIMEZONE
TZID:America/Chicago
BEGIN:STANDARD
TZNAME:CST
DTSTART:20141102T020000
TZOFFSETFROM:-0500
TZOFFSETTO:-0600
RDATE:20151101T020000
RDATE:20161106T020000
END:STANDARD
BEGIN:DAYLIGHT
TZNAME:CDT
DTSTART:20150308T020000
TZOFFSETFROM:-0600
TZOFFSETTO:-0500
RDATE:20160313T020000
END:DAYLIGHT
END:VTIMEZONE
BEGIN:VEVENT
UID:2385217d-6a36-43ff-93e5-fd89c3901a73
DTSTAMP:20260423T144311Z
DESCRIPTION:June 8 - 12\nEntering Grades K-2\n\nIt’s time for summer!  Girl
 s\, are you ready for some fun?  Bring your doll to camp at Aldridge Garde
 ns!  We’ll explore the magic of the Gardens\, make all kinds of accessorie
 s and crafts for you and your dolls\, and even have a tea party!  Join us 
 as we make new friends and great memories!\n\nInstructor:  Reauchean Barne
 s\, B.S. Early Childhood and Elementary Education\n
DTSTART;TZID=America/Chicago:20150608T090000
DTEND;TZID=America/Chicago:20150608T120000
LOCATION:
SUMMARY:Summer Camp: American Girls Grades K-2
END:VEVENT
END:VCALENDAR
