BEGIN:VCALENDAR
VERSION:2.0
PRODID:-//aldridgegardens.com//NONSGML kigkonsult.se iCalcreator 2.30.10//
CALSCALE:GREGORIAN
METHOD:PUBLISH
UID:031e23b6-3537-4683-98bd-1e57d2b2472b
X-WR-CALDESC:June 8 - 12\nEntering Grades K-2\n\nYoung designers and crafte
 rs will have the opportunity to experiment with various natural art suppli
 es in order to create unique and fun projects inspired by the Gardens.  We
  will use paints\, fabrics\, ferns\, leaves\, blooms\, and lots of pattern
 s and colors that pop.  Campers will gain new skills\, exercise their crea
 tivity\, and enjoy their dynamic expressions in the Gardens!\n\nInstructor
 :  Morgan Barrow\, B.S. and M.A. Early Childhood Education\n
X-WR-RELCALID:8288e881c0021dba40a709f44fa4d9e3
X-WR-TIMEZONE:America/Chicago
BEGIN:VTIMEZONE
TZID:America/Chicago
BEGIN:STANDARD
TZNAME:CST
DTSTART:20141102T020000
TZOFFSETFROM:-0500
TZOFFSETTO:-0600
RDATE:20151101T020000
RDATE:20161106T020000
END:STANDARD
BEGIN:DAYLIGHT
TZNAME:CDT
DTSTART:20150308T020000
TZOFFSETFROM:-0600
TZOFFSETTO:-0500
RDATE:20160313T020000
END:DAYLIGHT
END:VTIMEZONE
BEGIN:VEVENT
UID:3ee7597e-ce5e-4972-b0df-7071670d86f0
DTSTAMP:20260423T144254Z
DESCRIPTION:June 8 - 12\nEntering Grades K-2\n\nYoung designers and crafter
 s will have the opportunity to experiment with various natural art supplie
 s in order to create unique and fun projects inspired by the Gardens.  We 
 will use paints\, fabrics\, ferns\, leaves\, blooms\, and lots of patterns
  and colors that pop.  Campers will gain new skills\, exercise their creat
 ivity\, and enjoy their dynamic expressions in the Gardens!\n\nInstructor:
   Morgan Barrow\, B.S. and M.A. Early Childhood Education\n
DTSTART;TZID=America/Chicago:20150608T090000
DTEND;TZID=America/Chicago:20150608T120000
LOCATION:
SUMMARY:Summer Camp: Painting\, Pounding\, Picking\, Pressing Grades 2-4
END:VEVENT
END:VCALENDAR
