BEGIN:VCALENDAR
VERSION:2.0
PRODID:-//aldridgegardens.com//NONSGML kigkonsult.se iCalcreator 2.30.10//
CALSCALE:GREGORIAN
METHOD:PUBLISH
UID:1f11e852-671c-482f-b13a-d1f268abaebd
X-WR-CALDESC:<b> Summer Camps for the week of June 8-12</b>\n\nAmerican Gir
 ls in Aldridge Gardens Entering Grades 2 – 4\nAmerican Girls in Aldridge G
 ardens Entering Grades K – 2\nPainting\, Pounding\, Picking\, Pressing Ent
 ering Grades 2 – 4\n\n
X-WR-RELCALID:9e1a232b63e278e7ee7a67ac75670b32
X-WR-TIMEZONE:America/Chicago
BEGIN:VTIMEZONE
TZID:America/Chicago
BEGIN:STANDARD
TZNAME:CST
DTSTART:20141102T020000
TZOFFSETFROM:-0500
TZOFFSETTO:-0600
RDATE:20151101T020000
RDATE:20161106T020000
END:STANDARD
BEGIN:DAYLIGHT
TZNAME:CDT
DTSTART:20150308T020000
TZOFFSETFROM:-0600
TZOFFSETTO:-0500
RDATE:20160313T020000
END:DAYLIGHT
END:VTIMEZONE
BEGIN:VEVENT
UID:b31385b4-4e75-4d57-8863-22b7b4149db7
DTSTAMP:20260423T144100Z
DESCRIPTION:<b> Summer Camps for the week of June 8-12</b>\n\nAmerican Girl
 s in Aldridge Gardens Entering Grades 2 – 4\nAmerican Girls in Aldridge Ga
 rdens Entering Grades K – 2\nPainting\, Pounding\, Picking\, Pressing Ente
 ring Grades 2 – 4\n\n
DTSTART;TZID=America/Chicago:20150610T090000
DTEND;TZID=America/Chicago:20150610T120000
LOCATION:
SUMMARY:Summer Camps
END:VEVENT
END:VCALENDAR
