BEGIN:VCALENDAR
VERSION:2.0
PRODID:-//aldridgegardens.com//NONSGML kigkonsult.se iCalcreator 2.30.10//
CALSCALE:GREGORIAN
METHOD:PUBLISH
UID:85cc86e9-b381-47fb-b68a-7ceba1d36cc0
X-WR-CALDESC:<b> Summer Camps for the week of June 8-12</b>\n\nAmerican Gir
 ls in Aldridge Gardens Entering Grades 2 – 4\nAmerican Girls in Aldridge G
 ardens Entering Grades K – 2\nPainting\, Pounding\, Picking\, Pressing Ent
 ering Grades 2 – 4\n\n
X-WR-RELCALID:fd7ce857ce5e2a7cbb57efa7e9e65147
X-WR-TIMEZONE:America/Chicago
BEGIN:VTIMEZONE
TZID:America/Chicago
BEGIN:STANDARD
TZNAME:CST
DTSTART:20141102T020000
TZOFFSETFROM:-0500
TZOFFSETTO:-0600
RDATE:20151101T020000
RDATE:20161106T020000
END:STANDARD
BEGIN:DAYLIGHT
TZNAME:CDT
DTSTART:20150308T020000
TZOFFSETFROM:-0600
TZOFFSETTO:-0500
RDATE:20160313T020000
END:DAYLIGHT
END:VTIMEZONE
BEGIN:VEVENT
UID:1c9d9f03-7e1f-43ba-96ab-0e8e7cdd4410
DTSTAMP:20260423T142501Z
DESCRIPTION:<b> Summer Camps for the week of June 8-12</b>\n\nAmerican Girl
 s in Aldridge Gardens Entering Grades 2 – 4\nAmerican Girls in Aldridge Ga
 rdens Entering Grades K – 2\nPainting\, Pounding\, Picking\, Pressing Ente
 ring Grades 2 – 4\n\n
DTSTART;TZID=America/Chicago:20150611T090000
DTEND;TZID=America/Chicago:20150611T120000
LOCATION:
SUMMARY:Summer Camps
END:VEVENT
END:VCALENDAR
