BEGIN:VCALENDAR
VERSION:2.0
PRODID:-//aldridgegardens.com//NONSGML kigkonsult.se iCalcreator 2.30.10//
CALSCALE:GREGORIAN
METHOD:PUBLISH
UID:5daf392c-d71b-4ac9-8087-4881d03cd9cb
X-WR-CALDESC:Please join us as we welcome Bethanne Hill to Aldridge Gardens
 . A meet the artist reception will be held on June 11th from 6:00 to 7:00 
 pm. This will kick off the exhibition of her work at the Eddie and Kay Ald
 ridge Arts & Historical Collections Museum. \n\nHere's a little bit of wha
 t the artist has to say about her artwork. 'In the South\, we enjoy a <i>g
 racious plenty</i>\, as you hear folks say. There are plenty of stories\, 
 plenty of legends\, plenty of moments in lives long gone. Through time\, S
 outherners have spun their lives into tall tales and songs that burst with
  the lushness of life. In my paintings\, I invite the viewer to look at th
 e details\, to pay attention to these stories and small moments. Often the
 y are familiar…things we’ve seen ourselves\, legends we’ve heard others te
 ll. They always change a bit with each retelling. These paintings are my s
 tories\, embellished in that great\, southern tradition. My hope is that t
 hey convey a sense of place...my home here in the South.' Join us on the 1
 1th to hear more\, directly from the artist. \n\nHill is a 1985 graduate o
 f the visual arts department at the Alabama School of Fine Arts\, and hold
 s a BFA in painting and sculpture from Birmingham-Southern College. Her wo
 rk will be displayed through the end of July.\n
X-WR-RELCALID:221990c6fc94326e320a10482e0f36e5
X-WR-TIMEZONE:America/Chicago
BEGIN:VTIMEZONE
TZID:America/Chicago
BEGIN:STANDARD
TZNAME:CST
DTSTART:20141102T020000
TZOFFSETFROM:-0500
TZOFFSETTO:-0600
RDATE:20151101T020000
RDATE:20161106T020000
END:STANDARD
BEGIN:DAYLIGHT
TZNAME:CDT
DTSTART:20150308T020000
TZOFFSETFROM:-0600
TZOFFSETTO:-0500
RDATE:20160313T020000
END:DAYLIGHT
END:VTIMEZONE
BEGIN:VEVENT
UID:e7bb2844-a6d2-4aa0-9035-b01aff8251a8
DTSTAMP:20260423T144259Z
DESCRIPTION:Please join us as we welcome Bethanne Hill to Aldridge Gardens.
  A meet the artist reception will be held on June 11th from 6:00 to 7:00 p
 m. This will kick off the exhibition of her work at the Eddie and Kay Aldr
 idge Arts & Historical Collections Museum. \n\nHere's a little bit of what
  the artist has to say about her artwork. 'In the South\, we enjoy a <i>gr
 acious plenty</i>\, as you hear folks say. There are plenty of stories\, p
 lenty of legends\, plenty of moments in lives long gone. Through time\, So
 utherners have spun their lives into tall tales and songs that burst with 
 the lushness of life. In my paintings\, I invite the viewer to look at the
  details\, to pay attention to these stories and small moments. Often they
  are familiar…things we’ve seen ourselves\, legends we’ve heard others tel
 l. They always change a bit with each retelling. These paintings are my st
 ories\, embellished in that great\, southern tradition. My hope is that th
 ey convey a sense of place...my home here in the South.' Join us on the 11
 th to hear more\, directly from the artist. \n\nHill is a 1985 graduate of
  the visual arts department at the Alabama School of Fine Arts\, and holds
  a BFA in painting and sculpture from Birmingham-Southern College. Her wor
 k will be displayed through the end of July.\n
DTSTART;TZID=America/Chicago:20150611T180000
DTEND;TZID=America/Chicago:20150611T190000
LOCATION:Eddie and Kay Aldridge Arts & Historical Collections Museum
SUMMARY:Meet the Artist Reception: Bethanne Hill
END:VEVENT
END:VCALENDAR
