BEGIN:VCALENDAR
VERSION:2.0
PRODID:-//aldridgegardens.com//NONSGML kigkonsult.se iCalcreator 2.30.10//
CALSCALE:GREGORIAN
METHOD:PUBLISH
UID:734e384b-2195-4884-bf2a-2a76c8afc5c5
X-WR-CALDESC:Propagator Level members will enjoy their monthly wine recepti
 on while mixing and mingling with the artist. Please join us as we welcome
  Bethanne Hill to Aldridge Gardens.\n\nHere's a little bit of what the art
 ist has to say about her work. 'In the South\, we enjoy a <i>gracious plen
 ty</i>\, as you hear folks say. There are plenty of stories\, plenty of le
 gends\, plenty of moments in lives long gone. Through time\, Southerners h
 ave spun their lives into tall tales and songs that burst with the lushnes
 s of life. In my paintings\, I invite the viewer to look at the details\, 
 to pay attention to these stories and small moments. Often they are famili
 ar…things we’ve seen ourselves\, legends we’ve heard others tell. They alw
 ays change a bit with each retelling. These paintings are my stories\, emb
 ellished in that great\, southern tradition. My hope is that they convey a
  sense of place...my home here in the South.' Join us on the 11th to hear 
 more\, directly from the artist. \n\nHill is a 1985 graduate of the visual
  arts department at the Alabama School of Fine Arts\, and holds a BFA in p
 ainting and sculpture from Birmingham-Southern College. Her work will be d
 isplayed in the Eddie and Kay Aldridge Arts & Historical Collections Museu
 m through the month of July.\n
X-WR-RELCALID:b0b6701e85bb866e752860b1dc065e95
X-WR-TIMEZONE:America/Chicago
BEGIN:VTIMEZONE
TZID:America/Chicago
BEGIN:STANDARD
TZNAME:CST
DTSTART:20141102T020000
TZOFFSETFROM:-0500
TZOFFSETTO:-0600
RDATE:20151101T020000
RDATE:20161106T020000
END:STANDARD
BEGIN:DAYLIGHT
TZNAME:CDT
DTSTART:20150308T020000
TZOFFSETFROM:-0600
TZOFFSETTO:-0500
RDATE:20160313T020000
END:DAYLIGHT
END:VTIMEZONE
BEGIN:VEVENT
UID:d0981882-0c8a-4cd0-95fe-4a113ced7394
DTSTAMP:20260423T143244Z
DESCRIPTION:Propagator Level members will enjoy their monthly wine receptio
 n while mixing and mingling with the artist. Please join us as we welcome 
 Bethanne Hill to Aldridge Gardens.\n\nHere's a little bit of what the arti
 st has to say about her work. 'In the South\, we enjoy a <i>gracious plent
 y</i>\, as you hear folks say. There are plenty of stories\, plenty of leg
 ends\, plenty of moments in lives long gone. Through time\, Southerners ha
 ve spun their lives into tall tales and songs that burst with the lushness
  of life. In my paintings\, I invite the viewer to look at the details\, t
 o pay attention to these stories and small moments. Often they are familia
 r…things we’ve seen ourselves\, legends we’ve heard others tell. They alwa
 ys change a bit with each retelling. These paintings are my stories\, embe
 llished in that great\, southern tradition. My hope is that they convey a 
 sense of place...my home here in the South.' Join us on the 11th to hear m
 ore\, directly from the artist. \n\nHill is a 1985 graduate of the visual 
 arts department at the Alabama School of Fine Arts\, and holds a BFA in pa
 inting and sculpture from Birmingham-Southern College. Her work will be di
 splayed in the Eddie and Kay Aldridge Arts & Historical Collections Museum
  through the month of July.\n
DTSTART;TZID=America/Chicago:20150611T170000
DTEND;TZID=America/Chicago:20150611T180000
LOCATION:Eddie and Kay Aldridge Arts & Historical Collections Museum
SUMMARY:Propagator Wine Reception: Meet the Artist
END:VEVENT
END:VCALENDAR
