BEGIN:VCALENDAR
VERSION:2.0
PRODID:-//aldridgegardens.com//NONSGML kigkonsult.se iCalcreator 2.30.10//
CALSCALE:GREGORIAN
METHOD:PUBLISH
UID:d90a6784-ebbc-4862-a336-4c7272d9881e
X-WR-CALDESC:<b> Summer Camps for the week of June 8-12</b>\n\nAmerican Gir
 ls in Aldridge Gardens Entering Grades 2 – 4\nAmerican Girls in Aldridge G
 ardens Entering Grades K – 2\nPainting\, Pounding\, Picking\, Pressing Ent
 ering Grades 2 – 4\n\n
X-WR-RELCALID:6e8ab825552b09b593f338a45cc7bb91
X-WR-TIMEZONE:America/Chicago
BEGIN:VTIMEZONE
TZID:America/Chicago
BEGIN:STANDARD
TZNAME:CST
DTSTART:20141102T020000
TZOFFSETFROM:-0500
TZOFFSETTO:-0600
RDATE:20151101T020000
RDATE:20161106T020000
END:STANDARD
BEGIN:DAYLIGHT
TZNAME:CDT
DTSTART:20150308T020000
TZOFFSETFROM:-0600
TZOFFSETTO:-0500
RDATE:20160313T020000
END:DAYLIGHT
END:VTIMEZONE
BEGIN:VEVENT
UID:2294d80f-0e5a-444a-9df8-a01903c55ab7
DTSTAMP:20260423T144100Z
DESCRIPTION:<b> Summer Camps for the week of June 8-12</b>\n\nAmerican Girl
 s in Aldridge Gardens Entering Grades 2 – 4\nAmerican Girls in Aldridge Ga
 rdens Entering Grades K – 2\nPainting\, Pounding\, Picking\, Pressing Ente
 ring Grades 2 – 4\n\n
DTSTART;TZID=America/Chicago:20150612T090000
DTEND;TZID=America/Chicago:20150612T120000
LOCATION:
SUMMARY:Summer Camps
END:VEVENT
END:VCALENDAR
